BEGIN:VCALENDAR
VERSION:2.0
PRODID:-//wp-events-plugin.com//7.2.3.1//EN
TZID:America/Detroit
X-WR-TIMEZONE:America/Detroit
BEGIN:VEVENT
UID:32122@arabamerica.com
DTSTART;TZID=America/Detroit:20240516T190000
DTEND;TZID=America/Detroit:20240516T210000
DTSTAMP:20240123T143215Z
URL:https://www.arabamerica.com/events/palestinian-liberation-working-grou
 p-meeting/
SUMMARY:Palestinian Liberation Working Group Meeting
DESCRIPTION:[caption id="attachment_243962" align="alignnone" width="300"] 
 Palestinian Liberation Workshop promo poster[/caption]\n\nHOUSTON\, TEXAS\
 n\nWorking group meeting to discuss and plan current actions.\n\nThis is a
  hybrid event. Zoom link available after you RSVP.
END:VEVENT
BEGIN:VTIMEZONE
TZID:America/Detroit
X-LIC-LOCATION:America/Detroit
BEGIN:DAYLIGHT
DTSTART:20240310T030000
TZOFFSETFROM:-0500
TZOFFSETTO:-0400
TZNAME:EDT
END:DAYLIGHT
END:VTIMEZONE
END:VCALENDAR