BEGIN:VCALENDAR
VERSION:2.0
PRODID:-//wp-events-plugin.com//7.2.3.1//EN
TZID:America/Detroit
X-WR-TIMEZONE:America/Detroit
BEGIN:VEVENT
UID:31508@arabamerica.com
DTSTART;TZID=America/Detroit:20230924T200000
DTEND;TZID=America/Detroit:20230924T220000
DTSTAMP:20230807T133101Z
URL:https://www.arabamerica.com/events/palestinian-night-performance-and-h
 uman-rights-presentation/
SUMMARY:Palestinian Night: Performance and Human Rights Presentation
DESCRIPTION:"You are warmly invited to join a special evening of delicious 
 Palestinian cuisine\, mixed mezze platter: hummus\, baba ghanoush\, falafe
 l\, lamb sambua\, spinach sambusa &amp\; onion batata. This price goes dir
 ectly to Bethlehem restaurant to cover their costs and includes a corkage 
 charge for BYOB.\n\nThe evening will begin with a performance by the very 
 talented actor &amp\; writer Amir Abu Alrob. A Palestinian artist based in
  Dublin\, having trained and graduated from the renowned Jenin Freedom The
 atre.\n\nFollowed by a 40 minute multimedia presentation by Finn Stoneman\
 , a human rights monitor who has recently returned from 3 months in the We
 st Bank. Afterwards there will be an open discussion with Finn\, Amir and 
 other relevant panelists."\n\n\n\n
ATTACH;FMTTYPE=image/jpeg:https://www.arabamerica.com/wp-content/uploads/2
 023/08/https___cdn.evbuc_.com_images_566874919_250481348169_1_original.jpe
 g
CATEGORIES:Community,culture,Discussion,Europe,Human
 Rights,Palestinian,Palestinian History
LOCATION:Bethlehem Restaurant\, 3 Wynnefield Road D06 F2Y2 D06 F2Y2\, Dubli
 n \, Ireland
GEO:53.322153;-6.266478
X-APPLE-STRUCTURED-LOCATION;VALUE=URI;X-ADDRESS=3 Wynnefield Road D06 F2Y2 
 D06 F2Y2\, Dublin \, Ireland;X-APPLE-RADIUS=100;X-TITLE=Bethlehem Restaura
 nt:geo:53.322153,-6.266478
END:VEVENT
BEGIN:VTIMEZONE
TZID:America/Detroit
X-LIC-LOCATION:America/Detroit
BEGIN:DAYLIGHT
DTSTART:20230312T030000
TZOFFSETFROM:-0500
TZOFFSETTO:-0400
TZNAME:EDT
END:DAYLIGHT
END:VTIMEZONE
END:VCALENDAR