BEGIN:VCALENDAR
VERSION:2.0
PRODID:-//wp-events-plugin.com//7.2.3.1//EN
TZID:America/Detroit
X-WR-TIMEZONE:America/Detroit
BEGIN:VEVENT
UID:34628@arabamerica.com
DTSTART;TZID=America/Detroit:20250628T140000
DTEND;TZID=America/Detroit:20250628T163000
DTSTAMP:20250618T004045Z
URL:https://www.arabamerica.com/events/palestinian-tatreez-workshop/
SUMMARY:Palestinian Tatreez Workshop
DESCRIPTION:PHILADELPHIA\, PA\n\n\n\n&nbsp\;\nJoin us for a tatreez worksho
 p led by Samar Dahleh\, a Palestinian creative and activist. All supplies 
 are provided for attendees who RSVP.\n\n\n\n\n\n\n\n\n\n\n\nAs a part of o
 ur summer offerings\, Collective Climb is holding space for an introductor
 y workshop to tatreez. Together we will explore how Palestinian embroidery
  is a tool of resistance while also having the opportunity to make pieces 
 of our own. We are grateful to Samar Dahleh\, an incredible local activist
 \, for bringing this sacred practice to Collective Climb.\n\nWhile this wo
 rkshop is free for attendees\, we will accept donations– 100% of which w
 ill go towards efforts on the ground in Gaza. We will coordinate with loca
 l Palestinian organizing groups to help us direct the funds.\n\n\n\n\n\n\n
 \n\n\n\n\n\n
ATTACH;FMTTYPE=image/jpeg:https://www.arabamerica.com/wp-content/uploads/2
 025/06/palestinian_tatreez_workshop.png
LOCATION:350 S 15th St\, 350 South 15th Street\, Philadelphia\, PA\, 19102\
 , United States
GEO:39.945937;-75.16696
X-APPLE-STRUCTURED-LOCATION;VALUE=URI;X-ADDRESS=350 South 15th Street\, Phi
 ladelphia\, PA\, 19102\, United States;X-APPLE-RADIUS=100;X-TITLE=350 S 15
 th St:geo:39.945937,-75.16696
END:VEVENT
BEGIN:VTIMEZONE
TZID:America/Detroit
X-LIC-LOCATION:America/Detroit
BEGIN:DAYLIGHT
DTSTART:20250309T030000
TZOFFSETFROM:-0500
TZOFFSETTO:-0400
TZNAME:EDT
END:DAYLIGHT
END:VTIMEZONE
END:VCALENDAR