BEGIN:VCALENDAR
VERSION:2.0
PRODID:-//wp-events-plugin.com//7.2.3.1//EN
TZID:America/Detroit
X-WR-TIMEZONE:America/Detroit
BEGIN:VEVENT
UID:35185@arabamerica.com
DTSTART;TZID=America/Chicago:20251107T183000
DTEND;TZID=America/Chicago:20251107T203000
DTSTAMP:20251001T045003Z
URL:https://www.arabamerica.com/events/path-to-immortality-egypt-atlantis/
SUMMARY:Path to Immortality: Egypt & Atlantis
DESCRIPTION:ALLIANCE\, OH\n\nEnjoy the relaxing atmosphere at Thebes Egypti
 an Mystery Center\, as they host a series of events "Unraveling the Myster
 ies of the Universe" .\n\nParticipate in open dialog with Gilbert a modern
  day Cathar\n\n-Topics explored in this conversation\n\n- The Holy Grail o
 f the Cathars\n\n- How to overcome karma and zodiac programming\n\n- Astro
 logy of 16 Kind Constellations\n\n- Practice of accumulation of light\n\n-
  How to release 12 immortal bodies\n\nPresented by Cathars 21\n\nThis grou
 p of Cathars is a continuation of an ancient group of Christians known as 
 the “Good Christians” based in Italy\, and France The core beliefs in 
 prayer\, work\, fasting\, nonviolence and having women play a major role m
 ade them very popular with peasants and the Artisans from the 12th to 14th
  century until the Catholic Church brutally hunted and killed them all. Th
 e guiding beliefs survived making a comeback to a diverse world. The Inter
 national Cathar Church has dozens of communities and Centres around the wo
 rld and one in Ohio.\n\nMore info on this group https://www.youtube.com/@
 TheCathars
ATTACH;FMTTYPE=image/jpeg:https://www.arabamerica.com/wp-content/uploads/2
 025/10/Screen-Shot-2025-10-01-at-12.48.25-AM.png
LOCATION:318 E Main St\, 318 East Main Street\, Alliance\, Ohio \, 44601\, 
 United States
GEO:40.922074;-81.100888
X-APPLE-STRUCTURED-LOCATION;VALUE=URI;X-ADDRESS=318 East Main Street\, Alli
 ance\, Ohio \, 44601\, United States;X-APPLE-RADIUS=100;X-TITLE=318 E Main
  St:geo:40.922074,-81.100888
END:VEVENT
BEGIN:VTIMEZONE
TZID:America/Chicago
X-LIC-LOCATION:America/Chicago
BEGIN:STANDARD
DTSTART:20251102T010000
TZOFFSETFROM:-0500
TZOFFSETTO:-0600
TZNAME:CST
END:STANDARD
END:VTIMEZONE
END:VCALENDAR