BEGIN:VCALENDAR
VERSION:2.0
PRODID:-//wp-events-plugin.com//7.2.3.1//EN
TZID:America/Detroit
X-WR-TIMEZONE:America/Detroit
BEGIN:VEVENT
UID:34506@arabamerica.com
DTSTART;TZID=America/Detroit:20250614T190000
DTEND;TZID=America/Detroit:20250614T230000
DTSTAMP:20250602T205944Z
URL:https://www.arabamerica.com/events/pca-eid-al-adha-party-featuring-ars
 alan-rabbani/
SUMMARY:PCA Eid Al-Adha party featuring Arsalan Rabbani
DESCRIPTION:\n\n\nMETAIRIE\, LA\n\n&nbsp\;\nJoin us for PCA's Eid Al-Adha p
 arty with special guest Arsalan Rabbani! Enjoy delicious food\, amazing en
 tertainment and the best company!\n\n\n
ATTACH;FMTTYPE=image/jpeg:https://www.arabamerica.com/wp-content/uploads/2
 025/06/pca_eid-party.png
LOCATION:Sheraton Metairie - New Orleans Hotel\, Galleria Boulevard\, Metai
 rie\, LA\, 70001\, United States
GEO:29.99472;-90.152743
X-APPLE-STRUCTURED-LOCATION;VALUE=URI;X-ADDRESS=Galleria Boulevard\, Metair
 ie\, LA\, 70001\, United States;X-APPLE-RADIUS=100;X-TITLE=Sheraton Metair
 ie - New Orleans Hotel:geo:29.99472,-90.152743
END:VEVENT
BEGIN:VTIMEZONE
TZID:America/Detroit
X-LIC-LOCATION:America/Detroit
BEGIN:DAYLIGHT
DTSTART:20250309T030000
TZOFFSETFROM:-0500
TZOFFSETTO:-0400
TZNAME:EDT
END:DAYLIGHT
END:VTIMEZONE
END:VCALENDAR