BEGIN:VCALENDAR
VERSION:2.0
PRODID:-//wp-events-plugin.com//7.2.3.1//EN
TZID:America/Detroit
X-WR-TIMEZONE:America/Detroit
BEGIN:VEVENT
UID:32100@arabamerica.com
DTSTART;TZID=America/Detroit:20240129T180000
DTEND;TZID=America/Detroit:20240129T200000
DTSTAMP:20240122T165747Z
URL:https://www.arabamerica.com/events/pcc-cooking-class-palestinian-levan
 tine-table/
SUMMARY:PCC Cooking Class: Palestinian Levantine Table
DESCRIPTION:&nbsp\;\n\n[caption id="attachment_243876" align="alignnone" wi
 dth="300"] Image of Musakhan (Spiced Sumac Chicken) served over handmade T
 aboon Fatbread[/caption]\n\n&nbsp\;\n\nEDMONDS\, WASHINGTON\n\nBring the f
 oods of Palestine\, Lebanon and Syria together learning to make Chef Hend
 ’s deep-rooted family recipes. Make handmade Taboon\, a yeasted flatbrea
 d that is essential for the table. Build the spice combination to make Mus
 akhan\, a flavorful chicken dish made to serve atop your taboon. For a bit
 e of sweetness\, learn to make Atayef\, pillowy stuffed pancakes that are 
 a delight to celebrate. This class is brimming with unique recipes and ess
 ential Middle Eastern ingredients to bring to your kitchen.\n\nWith dairy\
 , nuts\, and poultry.\n\nAbout the instructor: After cooking in Michelin S
 tar restaurants and high volume catering events\, I made a “temporary”
  switch to teaching cooking classes. However\, the satisfaction and unique
  experience I received from teaching convinced me that this was my new cul
 inary path. I am a graduate of the Le Cordon Bleu\, where I mainly focused
  on French and Western technique\, but I have deep roots in Middle-Eastern
  cuisine and an enthusiastic\, developed passion for Japanese cuisine. In 
 my travels I seek out to learn something new\, and for me\, the more speci
 fic and obscure\, the better. My interests and abilities continue to range
  out further\, as long as I can do it\, I will teach it.
ATTACH;FMTTYPE=image/jpeg:https://www.arabamerica.com/wp-content/uploads/2
 024/01/Palestinian-Levantine-Table-Screen-Shot-2024-01-22-at-12.48.32-PM.p
 ng
LOCATION:Palestinian Levantine Table-Edmonds\, 9803 Edmonds Way\, Edmonds\,
  Washington\, 98020\, United States
GEO:47.791542;-122.366099
X-APPLE-STRUCTURED-LOCATION;VALUE=URI;X-ADDRESS=9803 Edmonds Way\, Edmonds\
 , Washington\, 98020\, United States;X-APPLE-RADIUS=100;X-TITLE=Palestinia
 n Levantine Table-Edmonds:geo:47.791542,-122.366099
END:VEVENT
BEGIN:VTIMEZONE
TZID:America/Detroit
X-LIC-LOCATION:America/Detroit
BEGIN:STANDARD
DTSTART:20231105T010000
TZOFFSETFROM:-0400
TZOFFSETTO:-0500
TZNAME:EST
END:STANDARD
END:VTIMEZONE
END:VCALENDAR