BEGIN:VCALENDAR
VERSION:2.0
PRODID:-//wp-events-plugin.com//7.2.3.1//EN
TZID:America/Detroit
X-WR-TIMEZONE:America/Detroit
BEGIN:VEVENT
UID:31789@arabamerica.com
DTSTART;TZID=America/Detroit:20231022T150000
DTEND;TZID=America/Detroit:20231022T190000
DTSTAMP:20231017T161226Z
URL:https://www.arabamerica.com/events/peace-for-palestine-elementary-midd
 le/
SUMMARY:Peace for Palestine: Elementary + Middle
DESCRIPTION:\n\n\n\n\nJoin us for a day dedicated to understanding Palestin
 ian heritage\, history\, culture\, and the significance of Masjid Al Aqsa.
  Let's come together to pray for the well-being of our Palestinian brother
 s and sisters.  May Allah swt ease the hardship and oppression of the Pal
 estinians.\n\n\n\n
ATTACH;FMTTYPE=image/jpeg:https://www.arabamerica.com/wp-content/uploads/2
 023/10/e85f9c_f50bb81ca1304dd4a29cd8a6c9e0adfcmv2.png.webp
CATEGORIES:Arab,Arab America,Arab-Muslim Identity,Arabic
 Community,Muslim,Muslim American,Palestine,Palestinian
LOCATION:Khadija Banquet Hall\, 3003 Scott Boulevard \, Santa Clara\, Unite
 d States
GEO:37.3770953;-121.959451
X-APPLE-STRUCTURED-LOCATION;VALUE=URI;X-ADDRESS=3003 Scott Boulevard \, San
 ta Clara\, United States;X-APPLE-RADIUS=100;X-TITLE=Khadija Banquet Hall:g
 eo:37.3770953,-121.959451
END:VEVENT
BEGIN:VTIMEZONE
TZID:America/Detroit
X-LIC-LOCATION:America/Detroit
BEGIN:DAYLIGHT
DTSTART:20230312T030000
TZOFFSETFROM:-0500
TZOFFSETTO:-0400
TZNAME:EDT
END:DAYLIGHT
END:VTIMEZONE
END:VCALENDAR