BEGIN:VCALENDAR
VERSION:2.0
PRODID:-//wp-events-plugin.com//7.2.3.1//EN
TZID:America/Detroit
X-WR-TIMEZONE:America/Detroit
BEGIN:VEVENT
UID:35084@arabamerica.com
DTSTART;TZID=America/New_York:20250920T150000
DTEND;TZID=America/New_York:20250920T193000
DTSTAMP:20250903T154151Z
URL:https://www.arabamerica.com/events/peace-is-possible-lets-support-gems
 -initiative-in-gaza/
SUMMARY:Peace is Possible- let’s support GEM’s Initiative in Gaza
DESCRIPTION:DORAL\, FL\n\n&nbsp\;\n\nPeace is Possible- Unified We Stand is
  Supporting The Global Empowerment Mission's Food and Water Initiative 
 in Gaza\n\nTrue peace isn’t just the absence of conflict\; it’s the pr
 esence of understanding\, empathy\, and active collaboration.\n\nIn region
 s like Gaza and Israel\, where years of division\, fear\, and violence hav
 e shaped the present\, the path to peace can seem like an overwhelming cha
 llenge. History has shown us time and again that peace is not only a noble
  aspiration—it's a real possibility when we work together. It’s achiev
 able when individuals\, communities\, and nations come together with a sha
 red commitment to reconciliation.\n\nIn a world where division often overs
 hadows unity\, we know that change begins within and from internal peacefu
 l states in each individual\, we can create dialogue\, understanding\, and
  collective action toward peace.\n\nJoin us for an impactful afternoon ded
 icated to fostering internal peaceful states\, bridging divides\, and empo
 wering global change for the people of Gaza\, while honoring the people of
  Isreal.\n\nCome join us at the Global Empowerment Mission (GEM) HQ in D
 oral to create internal peaceful states to support external peace in the w
 orld.\n\n100% of all proceeds support clean water and food\, directly to t
 he people in Gaza. Donations start at $100. Please feel free to donate mor
 e if you desire. Everyone requires a ticket. The point of this event is to
  raise money to get aide in.\n\nTogether\, we can make a difference and su
 pport shifting what is happening from us vs them to us for we and we for u
 s - all of us.\n\nLet's stand unified and show our solidarity for a better
  future for all.\n\nDon't miss this opportunity to be a part of something 
 impactful - changing consciousness.\n\nSee you there.\n\nFlow: 3:15 -7:30p
 m - Please be on time.\n\n3:15 p.m. - Doors Open\n\n4:00 p.m. - Opening Re
 marks - Michael Capponi\n\n4:20 p.m. - What is GEM ? (video)\n\n4:30 p.m. 
 - Peace through Prayer - Spencer\n\n4:40 p.m. - Activating Peace through M
 ovement - MB + N\n\n5:10 p.m. - Listening for the Sound of Peace - JB + te
 am\n\n5:30 p.m. - Creating Internal Peaceful States - Nour\, Melissa and M
 onica\n\n6:00 p.m. - Rest - Peace in Stillness + Silence\n\n6:10 p.m. - In
 formation on what's happening on the ground in Isreal and Gaza.\n\n6:30 p.
 m. - Questions and Answers\n\n7:00 p.m. - Unified Closing - Support for Is
 real and Gaza\n\n7:15 p.m. - Closing Tea -\n\n7:30 p.m. - Depart\n\nPlease
  bring yoga mats\, a cushion\, a blanket\, and water.
ATTACH;FMTTYPE=image/jpeg:https://www.arabamerica.com/wp-content/uploads/2
 025/09/peace_is_possible.png
LOCATION:Global Empowerment Mission HQ\, 1850 Northwest 84th Avenue #100\, 
 Doral\, FL\, 33126\, United States
GEO:25.791099;-80.333018
X-APPLE-STRUCTURED-LOCATION;VALUE=URI;X-ADDRESS=1850 Northwest 84th Avenue 
 #100\, Doral\, FL\, 33126\, United States;X-APPLE-RADIUS=100;X-TITLE=Globa
 l Empowerment Mission HQ:geo:25.791099,-80.333018
END:VEVENT
BEGIN:VTIMEZONE
TZID:America/New_York
X-LIC-LOCATION:America/New_York
BEGIN:DAYLIGHT
DTSTART:20250309T030000
TZOFFSETFROM:-0500
TZOFFSETTO:-0400
TZNAME:EDT
END:DAYLIGHT
END:VTIMEZONE
END:VCALENDAR