BEGIN:VCALENDAR
VERSION:2.0
PRODID:-//wp-events-plugin.com//7.2.3.1//EN
TZID:America/Detroit
X-WR-TIMEZONE:America/Detroit
BEGIN:VEVENT
UID:34644@arabamerica.com
DTSTART;TZID=America/Detroit:20250829T000000
DTEND;TZID=America/Detroit:20250831T000000
DTSTAMP:20250623T230209Z
URL:https://www.arabamerica.com/events/peoples-conference-for-palestine/
SUMMARY:People's Conference for Palestine
DESCRIPTION:\n\n\n\nJOIN US AT THE PEOPLE’S CONFERENCE FOR PALESTINE!\n\n
 Every day we bear witness to the continued brutality of the U.S. and Israe
 l in their war against the Palestinian people\, but every day our movement
  grows stronger.\n\nFrom August 29–31 in Detroit\, Michigan\, we’re co
 ming together for a three-day gathering of organizations\, collectives\, m
 ovement leaders\, community members\, students\, artists\, cultural worker
 s\, and activists. This convening is a space to reflect\, exchange\, and s
 trengthen our collective commitment to the struggle for a free Palestine.\
 n\nIn this urgent moment\, we are called to deepen our relationships\, sha
 rpen our strategies and tactics\, and build for the road ahead.\n\nThrough
  panels\, workshops\, exhibitions\, and cultural performances\, the confer
 ence offers an opportunity to learn\, connect\, and grow the popular consc
 iousness needed to advance our fight.\n\nREGISTRATION IS OPEN:\npeoplescon
 ferenceforpalestine.org/register\n\nWANT TO ENDORSE THE CONFERENCE?\npeopl
 esconferenceforpalestine.org/endorse\n\nWANT TO BECOME A VENDOR?\npeoplesc
 onferenceforpalestine.org/vendors\n\n\n\n\n\n\n\n\n\n\n\n\n\n\n\n\n\n\n
ATTACH;FMTTYPE=image/jpeg:https://www.arabamerica.com/wp-content/uploads/2
 025/06/Screenshot-2025-06-23-at-6.02.11 PM.png
END:VEVENT
BEGIN:VTIMEZONE
TZID:America/Detroit
X-LIC-LOCATION:America/Detroit
BEGIN:DAYLIGHT
DTSTART:20250309T030000
TZOFFSETFROM:-0500
TZOFFSETTO:-0400
TZNAME:EDT
END:DAYLIGHT
END:VTIMEZONE
END:VCALENDAR