BEGIN:VCALENDAR
VERSION:2.0
PRODID:-//wp-events-plugin.com//7.2.3.1//EN
TZID:America/Detroit
X-WR-TIMEZONE:America/Detroit
BEGIN:VEVENT
UID:34939@arabamerica.com
DTSTART;TZID=America/Detroit:20250903T183000
DTEND;TZID=America/Detroit:20250903T203000
DTSTAMP:20250806T035204Z
URL:https://www.arabamerica.com/events/photovoice-sharing-experiences-of-a
 rab-americans/
SUMMARY:Photovoice: Sharing Experiences of Arab-Americans
DESCRIPTION:PALOS HILLS\, IL\n\nPhotovoice: Sharing Experiences of Arab-Ame
 ricans\n\nDate: September 3rd\, 2025\n\nTime: 6:30 PM - 8:30 PM\n\nLocat
 ion: 10331 Interlochen Dr\, Palos Hills\, IL 60465\n\nPhotovoice is a pow
 erful community project that brings people together to share their stories
  through photography. During this event\, participants will present their 
 photos and speak about their lived experiences as Arab Americans navigatin
 g ongoing challenges related to identity and representation.\n\nJoin us fo
 r an evening of meaningful conversation\, storytelling\, and community—l
 ight food and drinks will be provided.
ATTACH;FMTTYPE=image/jpeg:https://www.arabamerica.com/wp-content/uploads/2
 025/08/Screen-Shot-2025-08-05-at-11.46.48-PM.png
LOCATION:10331 Interlochen Dr\, 10331 Interlochen Drive\, Palos Hills\, Ill
 inois \, 60465\, United States
GEO:41.703099;-87.832411
X-APPLE-STRUCTURED-LOCATION;VALUE=URI;X-ADDRESS=10331 Interlochen Drive\, P
 alos Hills\, Illinois \, 60465\, United States;X-APPLE-RADIUS=100;X-TITLE=
 10331 Interlochen Dr:geo:41.703099,-87.832411
END:VEVENT
BEGIN:VTIMEZONE
TZID:America/Detroit
X-LIC-LOCATION:America/Detroit
BEGIN:DAYLIGHT
DTSTART:20250309T030000
TZOFFSETFROM:-0500
TZOFFSETTO:-0400
TZNAME:EDT
END:DAYLIGHT
END:VTIMEZONE
END:VCALENDAR