BEGIN:VCALENDAR
VERSION:2.0
PRODID:-//wp-events-plugin.com//7.2.3.1//EN
TZID:America/Detroit
X-WR-TIMEZONE:America/Detroit
BEGIN:VEVENT
UID:35267@arabamerica.com
DTSTART;TZID=America/Detroit:20251022T184500
DTEND;TZID=America/Detroit:20251022T200000
DTSTAMP:20251020T121710Z
URL:https://www.arabamerica.com/events/pilates-for-palestine/
SUMMARY:Pilates for Palestine
DESCRIPTION:TAMPA\, FL\n\n\n\nPilates for Palestine\n\nCome join us for a r
 elaxing and invigorating Pilates session for a good cause! Our event will 
 be held at the Marshall Student Center\, where you can stretch\, strengthe
 n\, and support a great initiative all at the same time. Whether you're a 
 Pilates pro or a newbie\, this event is open to everyone looking to break 
 a sweat for a purpose. Don't miss out on this opportunity to contribute to
  a meaningful cause while taking care of your body. See you there!
ATTACH;FMTTYPE=image/jpeg:https://www.arabamerica.com/wp-content/uploads/2
 025/10/https-cdn.evbuc_.com-images-1154225763-2225816840003-1-original.202
 51015-184207.jpeg
LOCATION:Marshall Student Center - Oval Theater\, 4103 Cedar Circle\, Tampa
 \, Florida\, 33620\, United States
GEO:28.063734;-82.41342370000001
X-APPLE-STRUCTURED-LOCATION;VALUE=URI;X-ADDRESS=4103 Cedar Circle\, Tampa\,
  Florida\, 33620\, United States;X-APPLE-RADIUS=100;X-TITLE=Marshall Stude
 nt Center - Oval Theater:geo:28.063734,-82.41342370000001
END:VEVENT
BEGIN:VTIMEZONE
TZID:America/Detroit
X-LIC-LOCATION:America/Detroit
BEGIN:DAYLIGHT
DTSTART:20250309T030000
TZOFFSETFROM:-0500
TZOFFSETTO:-0400
TZNAME:EDT
END:DAYLIGHT
END:VTIMEZONE
END:VCALENDAR