BEGIN:VCALENDAR
VERSION:2.0
PRODID:-//wp-events-plugin.com//7.2.3.1//EN
TZID:America/Detroit
X-WR-TIMEZONE:America/Detroit
BEGIN:VEVENT
UID:33314@arabamerica.com
DTSTART;TZID=America/Detroit:20240824T170000
DTEND;TZID=America/Detroit:20240824T200000
DTSTAMP:20240806T164339Z
URL:https://www.arabamerica.com/events/plates-for-palestine-fitts-park/
SUMMARY:Plates for Palestine - Fitts Park
DESCRIPTION:SOUTH SALT LAKE\, UT\n\n\n\n\n\n\nPlate for Palestine - Fitts P
 ark\n\nCome join us for dinner and activities at Fitts Park in honor of Al
 aa! Bring your friends and family!\n\n\n\n\n\n
ATTACH;FMTTYPE=image/jpeg:https://www.arabamerica.com/wp-content/uploads/2
 024/08/temp-14.jpg
LOCATION:Fitts Park\, 3050 South 500 East \, South Salt Lake\, Utah\, 84106
 \, United States
GEO:40.704906;-111.877816
X-APPLE-STRUCTURED-LOCATION;VALUE=URI;X-ADDRESS=3050 South 500 East \, Sout
 h Salt Lake\, Utah\, 84106\, United States;X-APPLE-RADIUS=100;X-TITLE=Fitt
 s Park:geo:40.704906,-111.877816
END:VEVENT
BEGIN:VTIMEZONE
TZID:America/Detroit
X-LIC-LOCATION:America/Detroit
BEGIN:DAYLIGHT
DTSTART:20240310T030000
TZOFFSETFROM:-0500
TZOFFSETTO:-0400
TZNAME:EDT
END:DAYLIGHT
END:VTIMEZONE
END:VCALENDAR