BEGIN:VCALENDAR
VERSION:2.0
PRODID:-//wp-events-plugin.com//7.2.3.1//EN
TZID:America/Detroit
X-WR-TIMEZONE:America/Detroit
BEGIN:VEVENT
UID:36204@arabamerica.com
DTSTART;TZID=America/Detroit:20260605T180000
DTEND;TZID=America/Detroit:20260605T193000
DTSTAMP:20260420T182115Z
URL:https://www.arabamerica.com/events/poetry-conflict-mosab-abu-toha-in-c
 onversation/
SUMMARY:Poetry & Conflict | Mosab Abu Toha in Conversation
DESCRIPTION:PROVINCETOWN\, MA\n\n&nbsp\;\n\n\n\nPoet Mosab Abu Toha explore
 s war\, loss\, and exile through acclaimed literary works\, building a pow
 erful career of witness and resilience.\n\n\n\n\n\n\nMosab Abu Toha is a 
 Palestinian poet\, scholar\, and librarian who was born in Gaza and has sp
 ent his life there. In 2025\, he was awarded the Pulitzer Prize for his es
 says on Gaza\, featured in The New Yorker. He is the founder of the Edwar
 d Said Library\, Gaza’s first English-language library. Things You May 
 Find Hidden in My Ear is his debut book of poems. The collection won an A
 merican Book Award\, a 2022 Palestine Book Award and was named a finalist 
 for the National Book Critics Circle Award in Poetry\, as well as the 2022
  Walcott Poetry Prize.\n\nIn 2019-2020\, Abu Toha was a Visiting Poet in t
 he Department of Comparative Literature at Harvard University. Abu Toha is
  a columnist for Arrowsmith Press\, and his writings from Gaza have also a
 ppeared in The Nation and Literary Hub. His poems have been published i
 n Poetry\, The Nation\, the Academy of American Poets’ Poem-a-Day\, 
 Poetry Daily\, and the New York Review of Books\, among others.\n\nhttps:
 //www.eventbrite.com/e/poetry-conflict-mosab-abu-toha-in-conversation-tick
 ets-1986543567286?aff=ebdssbdestsearch\n\n\n
ATTACH;FMTTYPE=image/jpeg:https://www.arabamerica.com/wp-content/uploads/2
 026/04/image-23.webp
LOCATION:The Hawthorne Barn\, 29 Miller Hill Rd\, Provincetown\, MA\, 02657
 \, United States
GEO:42.058409;-70.18223
X-APPLE-STRUCTURED-LOCATION;VALUE=URI;X-ADDRESS=29 Miller Hill Rd\, Provinc
 etown\, MA\, 02657\, United States;X-APPLE-RADIUS=100;X-TITLE=The Hawthorn
 e Barn:geo:42.058409,-70.18223
END:VEVENT
BEGIN:VTIMEZONE
TZID:America/Detroit
X-LIC-LOCATION:America/Detroit
BEGIN:DAYLIGHT
DTSTART:20260308T030000
TZOFFSETFROM:-0500
TZOFFSETTO:-0400
TZNAME:EDT
END:DAYLIGHT
END:VTIMEZONE
END:VCALENDAR