BEGIN:VCALENDAR
VERSION:2.0
PRODID:-//wp-events-plugin.com//7.2.3.1//EN
TZID:America/Detroit
X-WR-TIMEZONE:America/Detroit
BEGIN:VEVENT
UID:33911@arabamerica.com
DTSTART;TZID=America/Detroit:20250124T183000
DTEND;TZID=America/Detroit:20250124T210000
DTSTAMP:20250108T052528Z
URL:https://www.arabamerica.com/events/poets-for-palestine-open-mic-2/
SUMMARY:Poets for Palestine Open Mic
DESCRIPTION:AURORA\, CA\n\n&nbsp\;\n\nPoets for Palestine fundraises for di
 fferent causes and promotes art and expression as activism through our eve
 nts. At our open mic nights\, we welcome sharing of any medium including b
 ut not limited to poetry\, prose\, song\, and storytelling. They are free 
 to attend\, but we sell items at each event to fundraise for mutual aid\, 
 and there is an option to make a donation through Eventbrite as well. Cost
  should not be a barrier to be in community\, but if you have the means to
  donate\, it is always appreciated! Sign ups begin at the scheduled time o
 f our open mic\, and sharing will start approximately 30 minutes later. We
  encourage our attendees to support the businesses that host us\, so pleas
 e buy food/drink from them and suggest them to your friends!\n\nWe also pr
 ioritize accessibility for our events\, so masks are provided and required
  for attendees. Accessibility guides for each venue are available on our I
 nstagram\, or you can read out to us at poetsforfalasteen@gmail.com with a
 ny specific questions or accomodation requests.\n\nWe aim to cultivate a s
 afe community space for everyone\, so bigotry of any form will be addresse
 d and corrected. Everyone is imperfect\, so mistakes are inevitable\, but 
 our community space fosters learning and growth.
ATTACH;FMTTYPE=image/jpeg:https://www.arabamerica.com/wp-content/uploads/2
 025/01/sjwjjaee.png
LOCATION:Saj Fresh Grill\, 2300 South Parker Road \, Aurora\, CO\, United S
 tates
GEO:39.674342;-104.869428
X-APPLE-STRUCTURED-LOCATION;VALUE=URI;X-ADDRESS=2300 South Parker Road \, A
 urora\, CO\, United States;X-APPLE-RADIUS=100;X-TITLE=Saj Fresh Grill:geo:
 39.674342,-104.869428
END:VEVENT
BEGIN:VTIMEZONE
TZID:America/Detroit
X-LIC-LOCATION:America/Detroit
BEGIN:STANDARD
DTSTART:20241103T010000
TZOFFSETFROM:-0400
TZOFFSETTO:-0500
TZNAME:EST
END:STANDARD
END:VTIMEZONE
END:VCALENDAR