BEGIN:VCALENDAR
VERSION:2.0
PRODID:-//wp-events-plugin.com//7.2.3.1//EN
TZID:America/Detroit
X-WR-TIMEZONE:America/Detroit
BEGIN:VEVENT
UID:32787@arabamerica.com
DTSTART;TZID=America/Detroit:20240511T190000
DTEND;TZID=America/Detroit:20240511T210000
DTSTAMP:20240507T235150Z
URL:https://www.arabamerica.com/events/poets-for-palestine/
SUMMARY:Poets for Palestine
DESCRIPTION:\n\n\n\n\n\nCHICAGO\, IL\n\nJoin an amazing show featuring read
 ings and music\, all for the incredible cause of supporting the Palestine 
 Children's Relief Fund!\n\nExhibit B\, in collaboration with the Guild Lit
 erary Complex and Pilsen Community Books\, is hosting a special event to b
 enefit the Palestine Children's Relief Fund.\n\nThis event will feature pe
 rformances from Palestinian artists and allies. Pilsen Community Books wil
 l be on-site selling books\, and light refreshments will also be available
 . A portion of the funds raised through book sales\, drinks\, and ticket s
 ales will go to the Palestinian Children's Relief Fund.\n\nTickets are $20
  online and at the door.\n\nWe'll also accept proof of a $20 donation to: 
 https://pcrf1.app.neoncrm.com/np/clients/pcrf1/campaign.jsp?campaign=14&am
 p\;fundraiser=592330\n\nNo person will be turned away for not being able t
 o donate. If you'd like to attend\, but are unable to donate\, please emai
 l Exhibit B at exhibitb312@gmail.com\n\n\n\n\n\n\n 
ATTACH;FMTTYPE=image/jpeg:https://www.arabamerica.com/wp-content/uploads/2
 024/05/temp.png
LOCATION:Co-Prosperity + Public Media Institute\, 3219 South Morgan Street\
 , Chicago\, Illinois\, 60608\, United States
GEO:41.835743;-87.65082
X-APPLE-STRUCTURED-LOCATION;VALUE=URI;X-ADDRESS=3219 South Morgan Street\, 
 Chicago\, Illinois\, 60608\, United States;X-APPLE-RADIUS=100;X-TITLE=Co-P
 rosperity + Public Media Institute:geo:41.835743,-87.65082
END:VEVENT
BEGIN:VTIMEZONE
TZID:America/Detroit
X-LIC-LOCATION:America/Detroit
BEGIN:DAYLIGHT
DTSTART:20240310T030000
TZOFFSETFROM:-0500
TZOFFSETTO:-0400
TZNAME:EDT
END:DAYLIGHT
END:VTIMEZONE
END:VCALENDAR