BEGIN:VCALENDAR
VERSION:2.0
PRODID:-//wp-events-plugin.com//7.2.3.1//EN
TZID:America/Detroit
X-WR-TIMEZONE:America/Detroit
BEGIN:VEVENT
UID:34755@arabamerica.com
DTSTART;TZID=America/Detroit:20250713T060000
DTEND;TZID=America/Detroit:20250713T073000
DTSTAMP:20250709T041744Z
URL:https://www.arabamerica.com/events/portland-for-palestine-a-music-vide
 o-launch-fundraiser/
SUMMARY:Portland For Palestine: A Music Video Launch Fundraiser
DESCRIPTION:PORTLAND\, OR\n\nCome join us at SWANA Rose for a night of musi
 c\, and community!\n\nThis music video release fundraiser is our continued
  effort to build artistic spaces that aren't merely distractions from our 
 world\, rather\, spaces that are responsive to our global community and in
  alignment with our collective liberation.\n\n***Masks are required\, and 
 we will have masks available if you need one. We ask that all attendees re
 spect our mask policy to ensure safety for high-risk community members. We
  keep us safe.***\n\nWhat to expect:\n\nIn response to the racist empire w
 e're living under\, Armaan Singh and Esau Hamadanyan created two impromptu
  music videos featuring two unreleased songs from the album\, Roars of Rev
 olution. We're hoping to share our art and raise funds for our friend and 
 his family in Gaza. Our continued hope is to create art\, and music that f
 uels our dream for a total liberation.\n\nWe'd love to have you in the aud
 ience and share our art that lifts our spirits while we gather much needed
  support for our friend.\n\nWe will also have some cute raffle prizes to m
 aximize fundraising potential.\n\nNote: Please reach out to the organizer 
 if you have any accessibility needs for the event! We will do our absolute
  best to accommodate you\, and if we are unable to accommodate you may req
 uest a refund.\n\nWho we are supporting:\n\nAll funds raised from tickets 
 + raffle will support our dear friend Mohammed and his family. Mohammed an
 d his siblings were all in the process of achieving higher education when 
 the terrors of white supremacy turned their world upside down. As we know\
 , the situation in Gaza is worsening each day. Our hope is to send funds t
 o support Mohammed and his family to meet their basic needs in an active g
 enocide. Our people need us\, and this is our small effort in showing up f
 or them.\n\nRead More About Mohammed &amp\; his family story here: https:
 //gofund.me/34e7ad99\n\nGrab your friends and family\, and head over to SW
 ANA Rose for an evening filled with music\, community\, and a chance to su
 pport our people in Gaza.\n\n&nbsp\;\n\nDoors open @ 6:00 PM\n\nMusic Vide
 o Launch Starts @ 6:30 PM\n\n&nbsp\;\n\nGrab your friends and family\, and
  head over to SWANA Rose for an evening filled with music\, community\, an
 d a chance to give back to those in need.\n\nFeaturing:\n\nArtist/Lyricist
  - Armaan Singh\n\nDirector/ Concept - Esau Hamadanyan\n\n&nbsp\;\n\nOrgan
 ized by:\n\nJC Troopa &amp\; Armaan Singh\n\n&nbsp\;\n\nWith Love\,\n\nFre
 e Palestine!
ATTACH;FMTTYPE=image/jpeg:https://www.arabamerica.com/wp-content/uploads/2
 025/07/Screen-Shot-2025-07-09-at-12.14.52-AM.png
LOCATION:SWANA Rose Culture + Community Center\, 2942 Northeast Martin Luth
 er King Junior Boulevard\, Portland\, Oregon\, 97212\, United States
GEO:45.544469;-122.661388
X-APPLE-STRUCTURED-LOCATION;VALUE=URI;X-ADDRESS=2942 Northeast Martin Luthe
 r King Junior Boulevard\, Portland\, Oregon\, 97212\, United States;X-APPL
 E-RADIUS=100;X-TITLE=SWANA Rose Culture + Community Center:geo:45.544469,-
 122.661388
END:VEVENT
BEGIN:VTIMEZONE
TZID:America/Detroit
X-LIC-LOCATION:America/Detroit
BEGIN:DAYLIGHT
DTSTART:20250309T030000
TZOFFSETFROM:-0500
TZOFFSETTO:-0400
TZNAME:EDT
END:DAYLIGHT
END:VTIMEZONE
END:VCALENDAR