BEGIN:VCALENDAR
VERSION:2.0
PRODID:-//wp-events-plugin.com//7.2.3.1//EN
TZID:America/Detroit
X-WR-TIMEZONE:America/Detroit
BEGIN:VEVENT
UID:35295@arabamerica.com
DTSTART;TZID=America/Los_Angeles:20251108T190000
DTEND;TZID=America/Los_Angeles:20251108T203000
DTSTAMP:20251022T004030Z
URL:https://www.arabamerica.com/events/portland-for-palestine-a-variety-sh
 ow-fundraiser-2/
SUMMARY:Portland For Palestine: A Variety Show Fundraiser
DESCRIPTION:PORTLAND\, OR\n\nPortland For Palestine (PFP) is a fundraising 
 series and a boycott effort. For us it is also a call to action.\n\nWe bel
 ieve artists have the responsibility to curate artistic spaces that aren't
  merely a distraction\, rather\, are responsive to our local and global co
 mmunity in alignment with our collective liberation. We divest from the zi
 onist networks that are prevalent in the comedy and art scene in Portland\
 , and resist by creating our own spaces.\n\nVenue: Curious Comedy Theate
 r (Annex)\n\nAddress: 5229 Northeast Martin Luther King Junior Boulevard\,
  STE 103\n\nPortland\, OR 97214\n\nDoors @6:30 PM / Show Starts @7:00 PM\n
 \nVendors will be tabled when doors open\, and gracing us with art and foo
 d\n\nTicket Sales: 65\n\nMax Capacity: 75\n\nShow Features:\n\nPoets: Ale
 x Dang\, Ari-Aquilla Suand &amp\; Farah Dinga\n\nMusic Performance By: C
 HERA CHERA\n\nBurlesque Performance By: Hibiscus Lust\n\nMusic By: DJ Wild
 child\n\nVendors: Mulberry Jaan &amp\; Vegan Syrian\n\nHosted by: Armaan 
 Singh &amp\; JC Troopa\n\nAccessibility: This venue is ADA accessible. T
 his is a mask required event. We ask that all attendees respect our mask 
 policy to ensure safety for high-risk community members. We will have KN9
 5 masks avaialble at the door. We ask that food be eaten outside. You may
  drink inside\, we just ask that you lower your mask to take a drink\, and
  raise your mask immediatly after.\n\nWho we are supporting:\n\nAll funds 
 raised from ticket sales will support our dear friend Mohammed and his fam
 ily. Mohammed and his siblings were all in the process of achieving higher
  education when the terrors of colonization and imperialism turned their w
 orld upside down. As we know\, there are no universities left in Gaza. So 
 this fundraiser will support Mohammed and his family to survive life in Ga
 za\, rebuild and hopefully resume their education. Our people need us\, an
 d this is our small effort in showing up for them.\n\nRead More About Moha
 mmed &amp\; his family story here: https://gofund.me/34e7ad99\n\nWhat to 
 expect:\n\nWe will have four poets who will share their pieces with us in 
 hopes to take us on a journey of grief\, joy\, and more. We'll have a musi
 cal duo CHERA CHERA performing some songs for us\, and closing the night w
 e'll have a special burlesque performance by Hibiscus Lust.\n\nPrior to th
 e show we will have two local vendors selling art + food\, and a cute raff
 le to maximize fundraising potential. The event will likely come to a clos
 e around 8:30pm. There will be food vendors that you may purchase food fro
 m. We will have water available for free.\n\nNote: Please reach out to th
 e organizer if you have any accessibility needs for the event! We will do 
 our absolute best to accommodate you\, and if we are unable to accommodate
  you may request a refund.\n\nGrab your friends and family\, and head over
  to Curious Comedy Theater for an evening filled with art\, community\, an
 d a chance to support families in Gaza.\n\nWith Love\,\n\nFree Palestine!
LOCATION:Curious Comedy Annex Theater\, 5229 Northeast Martin Luther King J
 unior Boulevard #STE 103\, Portland\, OR\, 97211\, United States
GEO:45.560949;-122.661772
X-APPLE-STRUCTURED-LOCATION;VALUE=URI;X-ADDRESS=5229 Northeast Martin Luthe
 r King Junior Boulevard #STE 103\, Portland\, OR\, 97211\, United States;X
 -APPLE-RADIUS=100;X-TITLE=Curious Comedy Annex Theater:geo:45.560949,-122.
 661772
END:VEVENT
BEGIN:VTIMEZONE
TZID:America/Los_Angeles
X-LIC-LOCATION:America/Los_Angeles
BEGIN:STANDARD
DTSTART:20251102T010000
TZOFFSETFROM:-0700
TZOFFSETTO:-0800
TZNAME:PST
END:STANDARD
END:VTIMEZONE
END:VCALENDAR