BEGIN:VCALENDAR
VERSION:2.0
PRODID:-//wp-events-plugin.com//7.2.3.1//EN
TZID:America/Detroit
X-WR-TIMEZONE:America/Detroit
BEGIN:VEVENT
UID:32379@arabamerica.com
DTSTART;TZID=America/Detroit:20240317T180000
DTEND;TZID=America/Detroit:20240317T230000
DTSTAMP:20240304T182720Z
URL:https://www.arabamerica.com/events/power-of-dua-iftar-taraweeh-event-n
 ewark-ca/
SUMMARY:Power of Dua' | Iftar/Taraweeh event | Newark\, CA
DESCRIPTION:&nbsp\;\n\n[caption id="attachment_245784" align="alignnone" wi
 dth="300"] Charity Iftar and Taraweeh event's promotional poster[/caption]
 \n\n&nbsp\;\n\nNEWARK\, CALIFORNIA\n\nPower of Dua' | Iftar/Taraweeh event
  | Newark\, CA\n\nLet's come together to support our brothers and sisters 
 in Palestine\, Yemen\, Syria\, Lebanon\, Pakistan &amp\; more.\n\nJoin us 
 for an enlightening Ramadan evening at Chandni Restaurant in Newark\, CA\,
  USA. Discover the true meaning of Qadr and find Hope in this special Ifta
 r/Taraweeh event. Understand the Power of Dua' . Allah says: "Call upon me
 \, and I will respond"!\n\nImmerse yourself in a spiritual atmosphere as w
 e come together to learn and gain profound insight with Sheikh Waleed Basy
 ouni\, break fast together\, and listen to heart-touching recitation and p
 ray taraweeh behind the world renowned Qari Sheikh Muhammed Jebril. Don't 
 miss this opportunity to connect with fellow believers and strengthen your
  faith. Mark your calendars for this memorable event and come prepared to 
 be inspired!\n\nTime: Sunday\, March 17th 2024 @ 6pm PST. (Check-in @ 5:30
 pm)\n\n&nbsp\;
ATTACH;FMTTYPE=image/jpeg:https://www.arabamerica.com/wp-content/uploads/2
 024/03/Charity-Iftar-and-Taraweeh-promotional-poster-event-.png
LOCATION:Chandni Restaurant\, 5748 Mowry School Road\, Newark\, CA 94560\, 
 United States
GEO:37.520578;-121.991667
X-APPLE-STRUCTURED-LOCATION;VALUE=URI;X-ADDRESS=5748 Mowry School Road\, Ne
 wark\, CA 94560\, United States;X-APPLE-RADIUS=100;X-TITLE=Chandni Restaur
 ant:geo:37.520578,-121.991667
END:VEVENT
BEGIN:VTIMEZONE
TZID:America/Detroit
X-LIC-LOCATION:America/Detroit
BEGIN:DAYLIGHT
DTSTART:20240310T030000
TZOFFSETFROM:-0500
TZOFFSETTO:-0400
TZNAME:EDT
END:DAYLIGHT
END:VTIMEZONE
END:VCALENDAR