BEGIN:VCALENDAR
VERSION:2.0
PRODID:-//wp-events-plugin.com//7.2.3.1//EN
TZID:America/Detroit
X-WR-TIMEZONE:America/Detroit
BEGIN:VEVENT
UID:35473@arabamerica.com
DTSTART;TZID=America/Detroit:20251205T153000
DTEND;TZID=America/Detroit:20251205T173000
DTSTAMP:20251125T173715Z
URL:https://www.arabamerica.com/events/preservation-workshop-syrian-tradit
 ions-of-olive-oil-fermentation/
SUMMARY:Preservation Workshop: Syrian Traditions of Olive Oil & Fermentatio
 n
DESCRIPTION:\nLearn Syrian preservation traditions—olive oil + fermentati
 on—to carry care\, culture\, and memory forward.\n\n\n\n\n&#x1fad2\; Pr
 eservation Workshop: Syrian Traditions of Olive Oil &amp\; Fermentation P
 reservation is a practice of memory.&#x2728\; Hosted by SVA in collaborati
 on with Grey Area Collective (@wearegreyareacollective) and Lammeh (@lamme
 h.nyc). In Syria\, families learned to stretch sunlight through the cold m
 onths — turning olives\, herbs\, and vegetables into small acts of resil
 ience.\n\nThis workshop is an invitation to do the same: to hold what nour
 ishes us\, to learn from ancestral genius\, and to preserve more than food
  — to preserve care\, culture\, and connection.\n\nIn this workshop\, we
 ’ll explore two timeless Syrian methods of preservation: • Using Fat (
 Olive Oil) – the lifeblood of Syrian cuisine. • Using Bacteria (Fermen
 tation) – the invisible ally that transforms flavor.\n\n#GreyAreaCollect
 ive #Lammeh #SVA #Preservation #Fermentation #CulturalMemory #FoodAsStory 
 #AncestralKnowledge\n\n\n
ATTACH;FMTTYPE=image/jpeg:https://www.arabamerica.com/wp-content/uploads/2
 025/11/https___cdn.evbuc_.com_images_1170983995_584777053483_1_original.jp
 eg
LOCATION:SVA MFA Design for Social Innovation\, 136 West 21st Street\, New 
 York\, NY\, 10011\, United States
GEO:40.742209;-73.99547
X-APPLE-STRUCTURED-LOCATION;VALUE=URI;X-ADDRESS=136 West 21st Street\, New 
 York\, NY\, 10011\, United States;X-APPLE-RADIUS=100;X-TITLE=SVA MFA Desig
 n for Social Innovation:geo:40.742209,-73.99547
END:VEVENT
BEGIN:VTIMEZONE
TZID:America/Detroit
X-LIC-LOCATION:America/Detroit
BEGIN:STANDARD
DTSTART:20251102T010000
TZOFFSETFROM:-0400
TZOFFSETTO:-0500
TZNAME:EST
END:STANDARD
END:VTIMEZONE
END:VCALENDAR