BEGIN:VCALENDAR
VERSION:2.0
PRODID:-//wp-events-plugin.com//7.2.3.1//EN
TZID:America/Detroit
X-WR-TIMEZONE:America/Detroit
BEGIN:VEVENT
UID:36098@arabamerica.com
DTSTART;TZID=America/Detroit:20260426T110000
DTEND;TZID=America/Detroit:20260426T120000
DTSTAMP:20260325T234444Z
URL:https://www.arabamerica.com/events/preserving-palestinian-heritage-onl
 ine-webinar/
SUMMARY:Preserving Palestinian Heritage Online Webinar
DESCRIPTION:Hanan Karaman Munayyer\n\n&nbsp\;\n\nHanan Karaman Munayyer beg
 an her journey in preserving Palestinian Heritage and Costume in 1987 and 
 by 1992\, with her husband\, Farah Munayyer\, established the Palestinian 
 Heritage Foundation\, a nonprofit cultural and educational organization de
 dicated to preserving Arab and Palestinian art\, textiles\, and folklore.\
 n\n&nbsp\;\n\nAs a scientist by education and training for over 37 years\,
  she has developed a deep understanding of Palestinian embroidery\, textil
 e arts\, and history.\n\n&nbsp\;\n\nMunayyer is the author of Traditional 
 Palestinian Costume: Origins and Evolution\, which was awarded the Book of
  the Year for 2011 by ForeWord Reviews.\n\n&nbsp\;\n\nReem Jubran\, film d
 irector of Don’t Be Long Little Bird\n\n&nbsp\;\n\nReem Jubran is a film
 maker and visual artist based between Southern California and Palestine. H
 er photography and cinematic work explores identity\, memory\, and freedom
 . She completed several short film projects while achieving her B.A. in Fi
 lm Studies from the University of California\, Berkeley and continued her 
 film education in Palestine\, where she worked as Assistant Director on Pa
 lestinian narrative feature films.\n\n&nbsp\;\n\nDon’t Be Long\, Little 
 Bird is Reem’s first international project. Reem’s and film are featur
 ed in the PBS Artbound Series documentary episode called LA Rebellion: A C
 inematic Movement\, where she represents a continuation of the legacy and 
 solidarity between black\, brown\, and indigenous filmmakers at UCLA.
END:VEVENT
BEGIN:VTIMEZONE
TZID:America/Detroit
X-LIC-LOCATION:America/Detroit
BEGIN:DAYLIGHT
DTSTART:20260308T030000
TZOFFSETFROM:-0500
TZOFFSETTO:-0400
TZNAME:EDT
END:DAYLIGHT
END:VTIMEZONE
END:VCALENDAR