BEGIN:VCALENDAR
VERSION:2.0
PRODID:-//wp-events-plugin.com//7.2.3.1//EN
TZID:America/Detroit
X-WR-TIMEZONE:America/Detroit
BEGIN:VEVENT
UID:33182@arabamerica.com
DTSTART;TZID=America/Detroit:20240727T130000
DTEND;TZID=America/Detroit:20240727T180000
DTSTAMP:20240709T103805Z
URL:https://www.arabamerica.com/events/pretty-muslimah-picnic/
SUMMARY:Pretty Muslimah Picnic
DESCRIPTION:TRENTON\, NJ\n\nWelcome to the Pretty Muslimah Picnic! Join us
  for a fun day out at Mill Hill Park with fellow Muslimahs. It's a great
  opportunity to relax\, enjoy delicious food\, and meet new sisters. Don't
  forget to bring your favorite picnic blanket and prayer rug. Let's come t
 ogether for a day of laughter\, good vibes\, and sisterhood. We can't wait
  to see you there!
ATTACH;FMTTYPE=image/jpeg:https://www.arabamerica.com/wp-content/uploads/2
 024/07/Screenshot-2024-07-09-033704.png
LOCATION:Mill Hill Park\, South Broad Street\, Trenton\, NJ\, 08608\, Unite
 d States
GEO:40.215695;-74.761971
X-APPLE-STRUCTURED-LOCATION;VALUE=URI;X-ADDRESS=South Broad Street\, Trento
 n\, NJ\, 08608\, United States;X-APPLE-RADIUS=100;X-TITLE=Mill Hill Park:g
 eo:40.215695,-74.761971
END:VEVENT
BEGIN:VTIMEZONE
TZID:America/Detroit
X-LIC-LOCATION:America/Detroit
BEGIN:DAYLIGHT
DTSTART:20240310T030000
TZOFFSETFROM:-0500
TZOFFSETTO:-0400
TZNAME:EDT
END:DAYLIGHT
END:VTIMEZONE
END:VCALENDAR