BEGIN:VCALENDAR
VERSION:2.0
PRODID:-//wp-events-plugin.com//7.2.3.1//EN
TZID:America/Detroit
X-WR-TIMEZONE:America/Detroit
BEGIN:VEVENT
UID:35574@arabamerica.com
DTSTART;TZID=America/Detroit:20260214T120000
DTEND;TZID=America/Detroit:20260214T210000
DTSTAMP:20251216T171245Z
URL:https://www.arabamerica.com/events/princeton-grand-pre-ramadan-eid-fes
 tival/
SUMMARY:Princeton Grand Pre Ramadan & Eid Festival
DESCRIPTION:\n\nOverview\n\n\n\n\n\nGet ready for a fun-filled pre-Ramadan 
 and Eid celebration at the Princeton Grand Pre Ramadan &amp\; Eid Festival
 !\n\n\n\n\n&#x2728\; You’re Invited! &#x2728\;\n\nJoin us for a Pre-Rama
 dan &amp\; Eid Festival – a heartwarming celebration where community\, c
 ulture\, and faith come together! &#x1f319\;&#x1f4ab\;\n\n&#x1f54c\; Feel 
 the spirit of the holy Ramadan as we bring you a vibrant mix of activities
  for all ages:\n\n&#x1f4da\; Muslim Authors Meet &amp\; Greet – connect\
 , inspire\, and celebrate words that uplift.\n\n&#x1f3a4\; Special Nasheed
  Performances – let the melodies of devotion fill your heart.\n\n&#x1f3a
 c\; Ramadan-Themed Movie Screening – enjoy a soulful cinematic experienc
 e.\n\n&#x1f9d2\; Kids’ Performances &amp\; Islamic Poster Competition 
 – creativity meets faith!\n\n&#x1f6cd\;&#xfe0f\; Ramadan &amp\; Eid Mark
 et – shop beautiful gifts\, decor\, modest fashion &amp\; more.\n\n&#x1f
 362\; Delicious Food Stalls – savor mouthwatering Ramadan favorites.\n\n
 &#x1f56f\;&#xfe0f\; Workshops &amp\; Family Activities – learn\, create\
 , and prepare for a blessed month ahead.\n\n&#x1f468\;&#x200d\;&#x1f469\;&
 #x200d\;&#x1f467\;&#x200d\;&#x1f466\; Bring your family and friends and be
  part of this joyous celebration of community\, culture\, and faith!\n\n&#
 x1f31f\; Vendors &amp\; Participants Welcome!\n\nCome share your products\
 , talents\, and passion with a lively crowd excited to celebrate Ramadan &
 amp\; Eid together.\n\nTo participate as a vendor/Sponsor or to showcase y
 our business on a screen . Register here https://docs.google.com/forms/d/e
 /1FAIpQLSek6BerTgLOZm3a2_3pN0DrqOOC0FmHJEnC8qqgTEZa3yaNzQ/viewform?usp=pre
 view\n\nSave the Date – Don’t miss this soulful pre-Ramadan experience
 !\n\n\n\n\n\n
LOCATION:Princeton Marriott at Forrestal\, 100 College Road East \, Princet
 on\,  NJ \, 08540\, United States
GEO:40.355269;-74.599057
X-APPLE-STRUCTURED-LOCATION;VALUE=URI;X-ADDRESS=100 College Road East \, Pr
 inceton\,  NJ \, 08540\, United States;X-APPLE-RADIUS=100;X-TITLE=Princeto
 n Marriott at Forrestal:geo:40.355269,-74.599057
END:VEVENT
BEGIN:VTIMEZONE
TZID:America/Detroit
X-LIC-LOCATION:America/Detroit
BEGIN:STANDARD
DTSTART:20251102T010000
TZOFFSETFROM:-0400
TZOFFSETTO:-0500
TZNAME:EST
END:STANDARD
END:VTIMEZONE
END:VCALENDAR