BEGIN:VCALENDAR
VERSION:2.0
PRODID:-//wp-events-plugin.com//7.2.3.1//EN
TZID:America/Detroit
X-WR-TIMEZONE:America/Detroit
BEGIN:VEVENT
UID:33183@arabamerica.com
DTSTART;TZID=America/Detroit:20241018T193000
DTEND;TZID=America/Detroit:20241019T160000
DTSTAMP:20240709T104955Z
URL:https://www.arabamerica.com/events/prophetic-etiquette-conference/
SUMMARY:Prophetic Etiquette Conference
DESCRIPTION:EUCLID\, OH\n\n\n\n\n\n\n\n\n\nAgenda\n\n\n\n\n\n\n\n\n7:30 PM
  - 10:00 PM\nFriday Night Dinner &amp\; Impartation\n\n\n\nPastor Lex\n\
 n\n\n\n\n\n\n10:00 AM - 3:00 PM\nSaturday Workshops\n\n\n\nProphetic Com
 pany\n\n\n\n\n\n\n\n\n\n\n\n\n\n\n\n\n\n\n\nHave you ever went out to eat 
 with someone and it seemed like they had no manners? From smacking\, to re
 aching over your food\, etc. Sometimes in church services and life those w
 ho operate in the prophetic are awesome in the gift\, but have not been ed
 ucated how to operate in their gift with integrity and freedom. This confe
 rence will be a safe space for you to ask your instructors questions\, and
  also for you to glean from Prophets who are excited to pour into you. Are
  you ready to eat an exquisite 5 course prophetic meal? This conference is
  for you.\n\n\n\n\n\n\n\n\n
ATTACH;FMTTYPE=image/jpeg:https://www.arabamerica.com/wp-content/uploads/2
 024/07/Screenshot-2024-07-09-034703.png
LOCATION:333 Babbitt Rd\, 333 Babbitt Road\, Euclid\, OH\, 44123\, United S
 tates
GEO:41.606946;-81.524043
X-APPLE-STRUCTURED-LOCATION;VALUE=URI;X-ADDRESS=333 Babbitt Road\, Euclid\,
  OH\, 44123\, United States;X-APPLE-RADIUS=100;X-TITLE=333 Babbitt Rd:geo:
 41.606946,-81.524043
END:VEVENT
BEGIN:VTIMEZONE
TZID:America/Detroit
X-LIC-LOCATION:America/Detroit
BEGIN:DAYLIGHT
DTSTART:20240310T030000
TZOFFSETFROM:-0500
TZOFFSETTO:-0400
TZNAME:EDT
END:DAYLIGHT
END:VTIMEZONE
END:VCALENDAR