BEGIN:VCALENDAR
VERSION:2.0
PRODID:-//wp-events-plugin.com//7.2.3.1//EN
TZID:America/Detroit
X-WR-TIMEZONE:America/Detroit
BEGIN:VEVENT
UID:32383@arabamerica.com
DTSTART;TZID=America/Detroit:20240318T183000
DTEND;TZID=America/Detroit:20240318T193000
DTSTAMP:20240304T201920Z
URL:https://www.arabamerica.com/events/public-reading-circle-the-palestini
 an-struggle-for-self-determination/
SUMMARY:Public Reading Circle: The Palestinian Struggle for Self-Determinat
 ion
DESCRIPTION:WA.\n\nThis 5-week discussion circle aims to strengthen solidar
 ity with the Palestinian struggle by studying the history of the occupatio
 n and resistance from a socialist feminist perspective.\n\nMeeting in pers
 on and online.\n\nMondays – 3/18 thru 4/15\n6:30 to 8:30pm\n\nNew Freewa
 y Hall\, 5018 Rainier Ave S\, Seattle\nOn #7 bus line and near Columbia Ci
 ty light rail station\n\nRegister at tinyurl.com/PalestineStruggle\n\nSpo
 nsored by Freedom Socialist Party\nFor more info\, call 206-722-2453 or em
 ail seattleFSP@socialism.com
ATTACH;FMTTYPE=image/jpeg:https://www.arabamerica.com/wp-content/uploads/2
 024/03/https___cdn.evbuc_.com_images_708590839_535101181577_1_original.jpe
 g
CATEGORIES:Community,Discussion
LOCATION:New Freeway Hall\, 5018 Rainier Avenue \, South Seattle\, WA\, Uni
 ted States
GEO:47.556545;-122.283804
X-APPLE-STRUCTURED-LOCATION;VALUE=URI;X-ADDRESS=5018 Rainier Avenue \, Sout
 h Seattle\, WA\, United States;X-APPLE-RADIUS=100;X-TITLE=New Freeway Hall
 :geo:47.556545,-122.283804
END:VEVENT
BEGIN:VTIMEZONE
TZID:America/Detroit
X-LIC-LOCATION:America/Detroit
BEGIN:DAYLIGHT
DTSTART:20240310T030000
TZOFFSETFROM:-0500
TZOFFSETTO:-0400
TZNAME:EDT
END:DAYLIGHT
END:VTIMEZONE
END:VCALENDAR