BEGIN:VCALENDAR
VERSION:2.0
PRODID:-//wp-events-plugin.com//7.2.3.1//EN
TZID:America/Detroit
X-WR-TIMEZONE:America/Detroit
BEGIN:VEVENT
UID:33460@arabamerica.com
DTSTART;TZID=America/Detroit:20240914T160000
DTEND;TZID=America/Detroit:20240915T013000
DTSTAMP:20240903T200444Z
URL:https://www.arabamerica.com/events/puff-and-flow-for-palestine-a-fundr
 aiser/
SUMMARY:Puff and Flow for Palestine (A fundraiser)
DESCRIPTION:\n\n\n\n\n\n\n\n\nJoin us for live music\, DJ'S\, Yoga\, Flow\,
  Speakers\, Vendors\, Workshops and more! All proceeds will be donated to 
 the Palestinian Childrens Relief Fund!\n\nHosted by Blessed Be Witchery\, 
 Free Palestine Denton and Puff and Flow Denton!\n\n\n\n\n\n\n\n\n\n\n\n\n\
 n\n\n\n\n\n\n\n\n\n
ATTACH;FMTTYPE=image/jpeg:https://www.arabamerica.com/wp-content/uploads/2
 024/09/https-cdn.evbuc_.com-images-834049259-2181894813033-1-original.2024
 0826-013317.jpeg
LOCATION:Green Goddess Revival\, 1807 North Elm Street\, Denton\, TX\, 7620
 1\, United States
GEO:33.229796;-97.133866
X-APPLE-STRUCTURED-LOCATION;VALUE=URI;X-ADDRESS=1807 North Elm Street\, Den
 ton\, TX\, 76201\, United States;X-APPLE-RADIUS=100;X-TITLE=Green Goddess 
 Revival:geo:33.229796,-97.133866
END:VEVENT
BEGIN:VTIMEZONE
TZID:America/Detroit
X-LIC-LOCATION:America/Detroit
BEGIN:DAYLIGHT
DTSTART:20240310T030000
TZOFFSETFROM:-0500
TZOFFSETTO:-0400
TZNAME:EDT
END:DAYLIGHT
END:VTIMEZONE
END:VCALENDAR