BEGIN:VCALENDAR
VERSION:2.0
PRODID:-//wp-events-plugin.com//7.2.3.1//EN
TZID:America/Detroit
X-WR-TIMEZONE:America/Detroit
BEGIN:VEVENT
UID:35060@arabamerica.com
DTSTART;TZID=America/New_York:20250906T140000
DTEND;TZID=America/New_York:20250906T190000
DTSTAMP:20250902T213530Z
URL:https://www.arabamerica.com/events/punk-goes-palestine-mutual-aid-conc
 ert/
SUMMARY:Punk Goes Palestine Mutual Aid Concert
DESCRIPTION:QUEENS\, NY\n\nJoin us for a kickass concert to support Palesti
 ne with local musicians and raise funds for mutual aid efforts!\n\nWelcome
  to the Punk Goes Palestine Mutual Aid Concert! Join us for a day of music
  for a great cause at Murphy's Bar. Let's come together to support mutual 
 aid efforts in Palestine through the power of music. Get ready to rock out
  with local bands and show solidarity with those in need. Your attendance 
 will make a difference\, so mark your calendars and spread the word. See y
 ou there!\n\n&nbsp\;\n\nLineup:\n\nChaos Pixie\n\nCastle Black\n\nTheythem
 \n\nMimsey Mack\n\n&nbsp\;\n\nFollowed by a "prehistoric" emo night set by
  Rich Moyle Jr. ( for the real ones who came before the "elder emos").\n\n
 &nbsp\;\n\nPLUS Tarot\, Oracle\, and Natal Chart readings from local witch
 es.\n\nHANDMADE gifts\, spiritual support items\, plants\, and art for sal
 e\n\nRAFFLES for Bayside Errors Tour tickets at Irving Plaza (both nights)
  and a tattoo session with a local artist\n\n&nbsp\;\n\nSupport families i
 n Gaza with your tickets and purchases.\n\nSupport families locally with a
  Menstrual Pad Drive for the Astoria Food Pantry (for $2 off your ticket)\
 n\nSupport a local business with your drinks\, food\, and tips!\n\nAll age
 s are welcome. 21+ to drink.\n\nGet Tickets Here
ATTACH;FMTTYPE=image/jpeg:https://www.arabamerica.com/wp-content/uploads/2
 025/09/Screenshot-2025-09-02-at-5.16.19-PM.png
LOCATION:Murphy's Sports Bar\, 45-01 23rd Avenue \, Queens\, New York\, 111
 05\, United States
GEO:40.769136;-73.905048
X-APPLE-STRUCTURED-LOCATION;VALUE=URI;X-ADDRESS=45-01 23rd Avenue \, Queens
 \, New York\, 11105\, United States;X-APPLE-RADIUS=100;X-TITLE=Murphy's Sp
 orts Bar:geo:40.769136,-73.905048
END:VEVENT
BEGIN:VTIMEZONE
TZID:America/New_York
X-LIC-LOCATION:America/New_York
BEGIN:DAYLIGHT
DTSTART:20250309T030000
TZOFFSETFROM:-0500
TZOFFSETTO:-0400
TZNAME:EDT
END:DAYLIGHT
END:VTIMEZONE
END:VCALENDAR