BEGIN:VCALENDAR
VERSION:2.0
PRODID:-//wp-events-plugin.com//7.2.3.1//EN
TZID:America/Detroit
X-WR-TIMEZONE:America/Detroit
BEGIN:VEVENT
UID:35448@arabamerica.com
DTSTART;TZID=America/Detroit:20251207T170000
DTEND;TZID=America/Detroit:20251207T170000
DTSTAMP:20251119T123926Z
URL:https://www.arabamerica.com/events/purehands-yemen-culture-day-2/
SUMMARY:PureHands: Yemen Culture Day
DESCRIPTION:SANTA CLARA\, CA\n\n\n\nJoin us for PureHands Yemen Culture Day
  Fundraiser — celebrate heritage\, enjoy food &amp\; dessert\, and suppo
 rt vital relief for Yemen\n\n\n\n\nYemen Culture Day is coming up in Calif
 ornia! Join us on Sunday\, December 7 at 5 PM for an evening of culture\, 
 unity\, and purpose. Enjoy authentic Yemeni coffee\, tea\, food\, and dess
 ert. Reserve your free seat today.\n\nCan’t attend? You can still suppor
 t:\n\nwww.launchgood.com/yemencultureday\n\nZelle: west@purehands.org\n\nC
 ashApp: $PureHands2\n\nVenmo: @PureHands\n\n\n
ATTACH;FMTTYPE=image/jpeg:https://www.arabamerica.com/wp-content/uploads/2
 025/11/https-cdn.evbuc_.com-images-1171294463-353757840243-1-original.2025
 1119-004808.jpeg
LOCATION:Muslim Community Association\, 3003 Scott Blvd\, Santa Clara\, Cal
 ifornia\, 95054\, United States
GEO:37.3769575;-121.95924509999998
X-APPLE-STRUCTURED-LOCATION;VALUE=URI;X-ADDRESS=3003 Scott Blvd\, Santa Cla
 ra\, California\, 95054\, United States;X-APPLE-RADIUS=100;X-TITLE=Muslim 
 Community Association:geo:37.3769575,-121.95924509999998
END:VEVENT
BEGIN:VTIMEZONE
TZID:America/Detroit
X-LIC-LOCATION:America/Detroit
BEGIN:STANDARD
DTSTART:20251102T010000
TZOFFSETFROM:-0400
TZOFFSETTO:-0500
TZNAME:EST
END:STANDARD
END:VTIMEZONE
END:VCALENDAR