BEGIN:VCALENDAR
VERSION:2.0
PRODID:-//wp-events-plugin.com//7.2.3.1//EN
TZID:America/Detroit
X-WR-TIMEZONE:America/Detroit
BEGIN:VEVENT
UID:35874@arabamerica.com
DTSTART;TZID=America/Detroit:20260225T200000
DTEND;TZID=America/Detroit:20260225T223000
DTSTAMP:20260216T211912Z
URL:https://www.arabamerica.com/events/put-your-soul-on-your-hand-and-walk
 -by-sepideh-farsi-for-fatmas-family-2/
SUMMARY:Put Your Soul on Your Hand and Walk by Sepideh Farsi for Fatma’s 
 Family
DESCRIPTION:The Friendly Strangers Film Series brings Put Your Soul on Your
  Hand and Walk by Sepideh Farsi • all funds will be donated to Fatma’s
  Family\n\nPut Your Soul on Your Hand and Walk is a film in response of Se
 pideh Farsi as a filmmaker\, to the ongoing massacre of the Palestinians. 
 The personal way not to lose his sanity. A miracle happened when she met F
 atem through a Palestinian friend. Ever since\, she became his eyes in Gaz
 a\, while surviving under the bombs and documenting the war. And Sepideh F
 arsi became her connection to the outside world\, from her Gaza prison\, a
 s Fatima Hassouna puts it. They kept this line of life going for more than
  200 days. The bits of pixels and sounds that they exchanged constitute th
 e film that we see. Fatem's assassination on April 16\, 2025\, following a
 n Israeli attack on her home\, has forever changed its meaning.\n\n&nbsp\;
 \n\nThis will be the last Friendly Strangers screening until later in 2026
 . Over the last 2 years\, this film series has been able to donate over $3
 0\,000 worth of food/medical aid\, and shelter to families in Palestine. T
 hat is all because of the beautiful community of friendly strangers that w
 e've built together. Thank you for continuing to help me build this commun
 ity and film series. I am forever grateful to be on this journey with you 
 all.
ATTACH;FMTTYPE=image/jpeg:https://www.arabamerica.com/wp-content/uploads/2
 026/02/image-9-1.webp
LOCATION:Cobble Hill Cinemas\, 265 Court Street\, Brooklyn\, NY\, 11231\, U
 nited States
GEO:40.684926;-73.994504
X-APPLE-STRUCTURED-LOCATION;VALUE=URI;X-ADDRESS=265 Court Street\, Brooklyn
 \, NY\, 11231\, United States;X-APPLE-RADIUS=100;X-TITLE=Cobble Hill Cinem
 as:geo:40.684926,-73.994504
END:VEVENT
BEGIN:VTIMEZONE
TZID:America/Detroit
X-LIC-LOCATION:America/Detroit
BEGIN:STANDARD
DTSTART:20251102T010000
TZOFFSETFROM:-0400
TZOFFSETTO:-0500
TZNAME:EST
END:STANDARD
END:VTIMEZONE
END:VCALENDAR