BEGIN:VCALENDAR
VERSION:2.0
PRODID:-//wp-events-plugin.com//7.2.3.1//EN
TZID:America/Detroit
X-WR-TIMEZONE:America/Detroit
BEGIN:VEVENT
UID:31189@arabamerica.com
DTSTART;TZID=America/Detroit:20230617T160000
DTEND;TZID=America/Detroit:20230617T170000
DTSTAMP:20230605T025002Z
URL:https://www.arabamerica.com/events/r2r-23-al-qalam-poetry-in-the-park-
 w-new-york-arabic-orchestra-wshs/
SUMMARY:R2R '23: al Qalam: Poetry in the Park w/ New York Arabic Orchestra 
 & WSHS
DESCRIPTION:One of the best-kept secrets of early New York is the presence 
 of the first Arabic-speaking community in the United States\, located on W
 ashington Street on the Lower West Side of Manhattan\, first settled in 18
 80.\n\nal Qalam: Poets in the Park will be performed by three musicians f
 rom the New York Arabic Orchestra who will collaborate with two reciters\,
  Hani Bawardi and Rita Elojail Zihenni\, to celebrate the literary contrib
 utions of the early Arabic-speaking community in Lower Manhattan. Predomin
 antly Syrian and Lebanese\, these early writers formed a literary associat
 ion called al Rabitah al Qalamiyah (the Pen Bond)\, among whose founders w
 as famed author\, poet and artist Kahlil Gibran. The musicians will integr
 ate their classical Arabic music with the poetry readings\, using traditio
 nal musical instruments.\n\nal Qalam will take place in The Battery Labyr
 inth just in front of Castle Clinton at The Battery.\n\nThe Little Syria:
  New York Walking Tour\, on June 17th\, will culminate in The Battery Lab
 yrinth before the al Qalam: Poets in the Park performance. See https://l
 mcc.net/river-to-river-festival\n\nAll events in the River To River Festiv
 al are free and all are welcome. You are invited to bring a blanket to si
 t on the grass.\n\nACCESS INFO:\n\nThis performance will take place on the
  grass in The Battery Labyrinth which is a garden. The Battery Labyrinth i
 s in front of Castle Clinton at The Battery. Look for River to River staff
  and signage. The ground is soft and may be uneven. There is very limited 
 chair seating\, we encourage you to bring a blanket to sit in the grass an
 d enjoy the performance. Limited chair seating will be available upon requ
 est for differently abled persons.\n\nFor additional questions please reac
 h out to rsvp@lmcc.net
ATTACH;FMTTYPE=image/jpeg:https://www.arabamerica.com/wp-content/uploads/2
 023/06/https___cdn.evbuc_.com_images_523404919_150305682999_1_original.jpe
 g
CATEGORIES:#arabic,Arab Artists,Arab creators,Arab
 Culture,culture,Discussion,Orchestra,Performing Arts,Poetry,Poetry Reading
LOCATION:The Battery Labyrinth\, Battery Place\, New York\, NY\, 10004\, Un
 ited States
GEO:40.704948;-74.015832
X-APPLE-STRUCTURED-LOCATION;VALUE=URI;X-ADDRESS=Battery Place\, New York\, 
 NY\, 10004\, United States;X-APPLE-RADIUS=100;X-TITLE=The Battery Labyrint
 h:geo:40.704948,-74.015832
END:VEVENT
BEGIN:VTIMEZONE
TZID:America/Detroit
X-LIC-LOCATION:America/Detroit
BEGIN:DAYLIGHT
DTSTART:20230312T030000
TZOFFSETFROM:-0500
TZOFFSETTO:-0400
TZNAME:EDT
END:DAYLIGHT
END:VTIMEZONE
END:VCALENDAR