BEGIN:VCALENDAR
VERSION:2.0
PRODID:-//wp-events-plugin.com//7.2.3.1//EN
TZID:America/Detroit
X-WR-TIMEZONE:America/Detroit
BEGIN:VEVENT
UID:35867@arabamerica.com
DTSTART;TZID=America/Chicago:20260215T160000
DTEND;TZID=America/Chicago:20260215T190000
DTSTAMP:20260215T172629Z
URL:https://www.arabamerica.com/events/rabatas-girls-nasheed-club-ramadan-
 is-here/
SUMMARY:Rabata's Girl's Nasheed Club: Ramadan is Here
DESCRIPTION:Join us as we welcome Ramadan with this joyous event involving 
 our youth and getting our families excited to welcome the blessed month\nO
 ur concert for the Girls' Nasheed Club will be in a month\, inshallah! Get
  into the Ramadan spirit and support these talented young singers at rabat
 a.info/nasheedclub. Concert for women and children only.
ATTACH;FMTTYPE=image/jpeg:https://www.arabamerica.com/wp-content/uploads/2
 026/02/image-23.webp
CATEGORIES:Kids,Kids Event,Women Only
LOCATION:Rabata Cultural Center & Bookshop\, 3533 Lexington Avenue North\, 
 Arden Hills\, MN\, 55126\, United States
GEO:45.048542;-93.149136
X-APPLE-STRUCTURED-LOCATION;VALUE=URI;X-ADDRESS=3533 Lexington Avenue North
 \, Arden Hills\, MN\, 55126\, United States;X-APPLE-RADIUS=100;X-TITLE=Rab
 ata Cultural Center & Bookshop:geo:45.048542,-93.149136
END:VEVENT
BEGIN:VTIMEZONE
TZID:America/Chicago
X-LIC-LOCATION:America/Chicago
BEGIN:STANDARD
DTSTART:20251102T010000
TZOFFSETFROM:-0500
TZOFFSETTO:-0600
TZNAME:CST
END:STANDARD
END:VTIMEZONE
END:VCALENDAR