BEGIN:VCALENDAR
VERSION:2.0
PRODID:-//wp-events-plugin.com//7.2.3.1//EN
TZID:America/Detroit
X-WR-TIMEZONE:America/Detroit
BEGIN:VEVENT
UID:32374@arabamerica.com
DTSTART;TZID=America/Detroit:20240316T140000
DTEND;TZID=America/Detroit:20240316T180000
DTSTAMP:20240304T172918Z
URL:https://www.arabamerica.com/events/rally-for-palestine/
SUMMARY:RALLY FOR PALESTINE
DESCRIPTION:FL.\n\n\n\n\n\n\n\n\n\nCome join us for a powerful gathering in
  Downtown\, St. Petersburg\, FL\, USA to show your support for Palestine
 ! Let's stand together to raise awareness and advocate for justice. This i
 n-person event is a great opportunity to connect with like-minded individu
 als and make your voice heard. Together\, we can make a difference. See yo
 u there!\n\n\n\n\n\n\n\n\n\n\n\n\n\n\n\n
ATTACH;FMTTYPE=image/jpeg:https://www.arabamerica.com/wp-content/uploads/2
 024/03/https___cdn.evbuc_.com_images_706754619_2031234763713_1_original.jp
 eg
CATEGORIES:Community
LOCATION:Downtown St Petersburg\, Downtown \, St Petersburg \, FL\, United 
 States
GEO:27.774338;-82.638891
X-APPLE-STRUCTURED-LOCATION;VALUE=URI;X-ADDRESS=Downtown \, St Petersburg \
 , FL\, United States;X-APPLE-RADIUS=100;X-TITLE=Downtown St Petersburg:geo
 :27.774338,-82.638891
END:VEVENT
BEGIN:VTIMEZONE
TZID:America/Detroit
X-LIC-LOCATION:America/Detroit
BEGIN:DAYLIGHT
DTSTART:20240310T030000
TZOFFSETFROM:-0500
TZOFFSETTO:-0400
TZNAME:EDT
END:DAYLIGHT
END:VTIMEZONE
END:VCALENDAR