BEGIN:VCALENDAR
VERSION:2.0
PRODID:-//wp-events-plugin.com//7.2.3.1//EN
TZID:America/Detroit
X-WR-TIMEZONE:America/Detroit
BEGIN:VEVENT
UID:35865@arabamerica.com
DTSTART;TZID=America/Detroit:20260302T183000
DTEND;TZID=America/Detroit:20260302T193000
DTSTAMP:20260215T164900Z
URL:https://www.arabamerica.com/events/ramadan-and-eid-storytime-and-craft
 -night/
SUMMARY:Ramadan and Eid Storytime and Craft Night
DESCRIPTION:Join us and the American Muslem Society for a magical evening o
 f storytelling and crafting to celebrate Ramadan and Eid!\nCome to Campbel
 l | Detroit Public Library on March 2\, 2026 at 6:30 PM (Eastern Time) for
  a fun-filled evening celebrating Ramadan and Eid. Break fast with us and 
 learn about the holiday! We'll have engaging story sessions and exciting c
 raft activities for everyone!
ATTACH;FMTTYPE=image/jpeg:https://www.arabamerica.com/wp-content/uploads/2
 026/02/image-21-1.webp
CATEGORIES:Eid,Eid Celebration,Ramadan,Ramadan Festivities
LOCATION:Campbell Detroit Public Library\, 8733 W Vernor Hwy\, Detroit\, MI
 \, 48209\, United States
GEO:42.30889;-83.133171
X-APPLE-STRUCTURED-LOCATION;VALUE=URI;X-ADDRESS=8733 W Vernor Hwy\, Detroit
 \, MI\, 48209\, United States;X-APPLE-RADIUS=100;X-TITLE=Campbell Detroit 
 Public Library:geo:42.30889,-83.133171
END:VEVENT
BEGIN:VTIMEZONE
TZID:America/Detroit
X-LIC-LOCATION:America/Detroit
BEGIN:STANDARD
DTSTART:20251102T010000
TZOFFSETFROM:-0400
TZOFFSETTO:-0500
TZNAME:EST
END:STANDARD
END:VTIMEZONE
END:VCALENDAR