BEGIN:VCALENDAR
VERSION:2.0
PRODID:-//wp-events-plugin.com//7.2.3.1//EN
TZID:America/Detroit
X-WR-TIMEZONE:America/Detroit
BEGIN:VEVENT
UID:33934@arabamerica.com
DTSTART;TZID=America/Detroit:20250215T130000
DTEND;TZID=America/Detroit:20250215T190000
DTSTAMP:20250110T214505Z
URL:https://www.arabamerica.com/events/ramadan-arab-festival/
SUMMARY:Ramadan Arab Festival
DESCRIPTION:\n\nYou're invited to the Arab Ramadan Festival! Join us for a 
 delightful shopping experience with a variety of unique items\, enjoy live
  music\, and fun activities for\nthe kids.\nWe also have free snacks and d
 rinks to keep you refreshed throughout the event.\nBest of all\, entrance 
 and parking are completely free!\nCome and be part of this exciting celebr
 ation-bring your family and friends along!
ATTACH;FMTTYPE=image/jpeg:https://www.arabamerica.com/wp-content/uploads/2
 025/01/Screenshot-2025-01-10-at-4.47.23-PM.png
LOCATION:Vienna Community Center\, 120 Cherry Street\, S.E.\, Vienna\, Virg
 inia\, 22180\, United States
GEO:38.900611;-77.26010300000002
X-APPLE-STRUCTURED-LOCATION;VALUE=URI;X-ADDRESS=120 Cherry Street\, S.E.\, 
 Vienna\, Virginia\, 22180\, United States;X-APPLE-RADIUS=100;X-TITLE=Vienn
 a Community Center:geo:38.900611,-77.26010300000002
END:VEVENT
BEGIN:VTIMEZONE
TZID:America/Detroit
X-LIC-LOCATION:America/Detroit
BEGIN:STANDARD
DTSTART:20241103T010000
TZOFFSETFROM:-0400
TZOFFSETTO:-0500
TZNAME:EST
END:STANDARD
END:VTIMEZONE
END:VCALENDAR