BEGIN:VCALENDAR
VERSION:2.0
PRODID:-//wp-events-plugin.com//7.2.3.1//EN
TZID:America/Detroit
X-WR-TIMEZONE:America/Detroit
BEGIN:VEVENT
UID:35775@arabamerica.com
DTSTART;TZID=America/Detroit:20260201T110000
DTEND;TZID=America/Detroit:20260201T200000
DTSTAMP:20260128T012852Z
URL:https://www.arabamerica.com/events/ramadan-cultural-market-at-fair-oak
 s-mall/
SUMMARY:RAMADAN CULTURAL MARKET AT FAIR OAKS MALL
DESCRIPTION:Overview\n\n\n\n\nA vibrant cultural shopping experience celebr
 ating creativity\, and community.Clothing\, shoes\, jewelry\, food\, sweet
 s\, perfumes\, and more.\n\n\n\n\n\n\nHouse of Culture and Arts is pleased
  to announce the Ramadan Cultural Market (4th Edition)\, a vibrant cultura
 l shopping experience celebrating arts\, creativity\, and community.Date: 
 Sunday\, February 1\, 2026\nTime: 11:00 AM – 8:00 PM\nLocation: Fair Oak
 s Mall\n11750 Fair Oaks Mall\, Fairfax\, VA 22030We are now accepting vend
 ors offering:\nClothing\, shoes\, jewelry\, food\, sweets\, perfumes\, and
  more.Hosted by:\nHouse of Culture and Arts\nArts • Music • Literature
  • Cultural EventsTo reserve a space or for more information:\nPhone: 70
 3-344-5689\nEmail: HouseOfCultureandArt@gmail.comWe look forward to welcom
 ing you to an enriching cultural market experience.\n\n\n\n
ATTACH;FMTTYPE=image/jpeg:https://www.arabamerica.com/wp-content/uploads/2
 026/01/image-9-1.webp
LOCATION:11750 Fair Oaks Mall\, 11750 Fair Oaks Mall\, Fairfax\, VA\, 22033
 \, United States
GEO:38.862333;-77.358308
X-APPLE-STRUCTURED-LOCATION;VALUE=URI;X-ADDRESS=11750 Fair Oaks Mall\, Fair
 fax\, VA\, 22033\, United States;X-APPLE-RADIUS=100;X-TITLE=11750 Fair Oak
 s Mall:geo:38.862333,-77.358308
END:VEVENT
BEGIN:VTIMEZONE
TZID:America/Detroit
X-LIC-LOCATION:America/Detroit
BEGIN:STANDARD
DTSTART:20251102T010000
TZOFFSETFROM:-0400
TZOFFSETTO:-0500
TZNAME:EST
END:STANDARD
END:VTIMEZONE
END:VCALENDAR