BEGIN:VCALENDAR
VERSION:2.0
PRODID:-//wp-events-plugin.com//7.2.3.1//EN
TZID:America/Detroit
X-WR-TIMEZONE:America/Detroit
BEGIN:VEVENT
UID:35773@arabamerica.com
DTSTART:20260307T234500Z
DTEND:20260308T013000Z
DTSTAMP:20260128T012335Z
URL:https://www.arabamerica.com/events/ramadan-dinner-with-community-chris
 tian-church-more2-the-becoming-belov/
SUMMARY:Ramadan Dinner with Community Christian Church & More2 & The Becomi
 ng Belov
DESCRIPTION:Overview\n\n\nJoin us for a Ramadan Dinner with Community Chris
 tian Church &amp\; More2 &amp\; The Becoming Beloved Community Team of the
  Christian Church\n\n
ATTACH;FMTTYPE=image/jpeg:https://www.arabamerica.com/wp-content/uploads/2
 026/01/image-8-1.webp
LOCATION:4601 Main St\, Kansas City\, Kansas City\, MO\, 64112\, United Sta
 tes
GEO:39.037944;-94.598561
X-APPLE-STRUCTURED-LOCATION;VALUE=URI;X-ADDRESS=Kansas City\, Kansas City\,
  MO\, 64112\, United States;X-APPLE-RADIUS=100;X-TITLE=4601 Main St:geo:39
 .037944,-94.598561
END:VEVENT
END:VCALENDAR