BEGIN:VCALENDAR
VERSION:2.0
PRODID:-//wp-events-plugin.com//7.2.3.1//EN
TZID:America/Detroit
X-WR-TIMEZONE:America/Detroit
BEGIN:VEVENT
UID:35763@arabamerica.com
DTSTART;TZID=America/Detroit:20260221T174500
DTEND;TZID=America/Detroit:20260221T193000
DTSTAMP:20260127T173026Z
URL:https://www.arabamerica.com/events/ramadan-dinner-with-first-united-me
 thodist-church-lawrence-st-margarets/
SUMMARY:Ramadan Dinner with First United Methodist Church Lawrence & St. Ma
 rgaret's
DESCRIPTION:LAWRENCE\, KS\n\nJoin us for a delicious Ramadan Dinner with Fi
 rst United Methodist Church Lawrence &amp\; St. Margaret's Episcopal Churc
 h\n\nDialogue Institute of Kansas City\n\n&nbsp\;
ATTACH;FMTTYPE=image/jpeg:https://www.arabamerica.com/wp-content/uploads/2
 026/01/Screenshot-2026-01-27-at-10.45.02-AM.png
LOCATION:867 US-40\, 867 U.S. 40\, Lawrence\, KS\, 66049\, United States
GEO:38.969911;-95.341498
X-APPLE-STRUCTURED-LOCATION;VALUE=URI;X-ADDRESS=867 U.S. 40\, Lawrence\, KS
 \, 66049\, United States;X-APPLE-RADIUS=100;X-TITLE=867 US-40:geo:38.96991
 1,-95.341498
END:VEVENT
BEGIN:VTIMEZONE
TZID:America/Detroit
X-LIC-LOCATION:America/Detroit
BEGIN:STANDARD
DTSTART:20251102T010000
TZOFFSETFROM:-0400
TZOFFSETTO:-0500
TZNAME:EST
END:STANDARD
END:VTIMEZONE
END:VCALENDAR