BEGIN:VCALENDAR
VERSION:2.0
PRODID:-//wp-events-plugin.com//7.2.3.1//EN
TZID:America/Detroit
X-WR-TIMEZONE:America/Detroit
BEGIN:VEVENT
UID:35774@arabamerica.com
DTSTART:20260302T234500Z
DTEND:20260303T013000Z
DTSTAMP:20260128T012518Z
URL:https://www.arabamerica.com/events/ramadan-dinner-with-kansas-city-uni
 versity/
SUMMARY:Ramadan Dinner with Kansas City University
DESCRIPTION:Overview\n\n\nJoin us for a Ramadan Dinner with Kansas City Uni
 versity\n\n
ATTACH;FMTTYPE=image/jpeg:https://www.arabamerica.com/wp-content/uploads/2
 026/01/image-8-1.webp
LOCATION:1750 Independence Ave\, 1750 Independence Ave\, Kansas City\, MO\,
  64106\, United States
GEO:39.10712;-94.560704
X-APPLE-STRUCTURED-LOCATION;VALUE=URI;X-ADDRESS=1750 Independence Ave\, Kan
 sas City\, MO\, 64106\, United States;X-APPLE-RADIUS=100;X-TITLE=1750 Inde
 pendence Ave:geo:39.10712,-94.560704
END:VEVENT
END:VCALENDAR