BEGIN:VCALENDAR
VERSION:2.0
PRODID:-//wp-events-plugin.com//7.2.3.1//EN
TZID:America/Detroit
X-WR-TIMEZONE:America/Detroit
BEGIN:VEVENT
UID:35772@arabamerica.com
DTSTART:20260220T234500Z
DTEND:20260221T013000Z
DTSTAMP:20260128T011946Z
URL:https://www.arabamerica.com/events/ramadan-dinner-with-overland-park-s
 take-of-the-church-of-jesus-christ-of-la/
SUMMARY:Ramadan Dinner with Overland Park Stake of the Church of Jesus Chri
 st of La
DESCRIPTION:Overview\n\n\nJoin us for a delicious Ramadan Dinner filled wit
 h community\, laughter\, and good vibes!\n\n
ATTACH;FMTTYPE=image/jpeg:https://www.arabamerica.com/wp-content/uploads/2
 026/01/image-8-1.webp
LOCATION:15915 W 143rd St\, 15915 W 143rd St\, Olathe\, KS\, 66062\, United
  States
GEO:38.868549;-94.771086
X-APPLE-STRUCTURED-LOCATION;VALUE=URI;X-ADDRESS=15915 W 143rd St\, Olathe\,
  KS\, 66062\, United States;X-APPLE-RADIUS=100;X-TITLE=15915 W 143rd St:ge
 o:38.868549,-94.771086
END:VEVENT
END:VCALENDAR