BEGIN:VCALENDAR
VERSION:2.0
PRODID:-//wp-events-plugin.com//7.2.3.1//EN
TZID:America/Detroit
X-WR-TIMEZONE:America/Detroit
BEGIN:VEVENT
UID:35755@arabamerica.com
DTSTART;TZID=America/Chicago:20260303T174500
DTEND;TZID=America/Chicago:20260303T193000
DTSTAMP:20260122T050355Z
URL:https://www.arabamerica.com/events/ramadan-dinner-with-seven-days-city
 -of-leawood-heart-of-america-council/
SUMMARY:Ramadan Dinner with Seven Days\, City of Leawood\, Heart of America
  Council\,
DESCRIPTION:Join us for a Ramadan Dinner with Seven Days\, City of Leawood\
 , Heart of America Council\, Scouting America.
ATTACH;FMTTYPE=image/jpeg:https://www.arabamerica.com/wp-content/uploads/2
 026/01/https___cdn.evbuc_.com_images_1173310977_163349596686_1_original-1.
 jpg
CATEGORIES:Ramadan,Ramadan Banquet
LOCATION:4800 Town Center Drive\, 4800 Town Center Drive\, Leawood\, KS\, 6
 6211\, United States
GEO:38.917859;-94.641161
X-APPLE-STRUCTURED-LOCATION;VALUE=URI;X-ADDRESS=4800 Town Center Drive\, Le
 awood\, KS\, 66211\, United States;X-APPLE-RADIUS=100;X-TITLE=4800 Town Ce
 nter Drive:geo:38.917859,-94.641161
END:VEVENT
BEGIN:VTIMEZONE
TZID:America/Chicago
X-LIC-LOCATION:America/Chicago
BEGIN:STANDARD
DTSTART:20251102T010000
TZOFFSETFROM:-0500
TZOFFSETTO:-0600
TZNAME:CST
END:STANDARD
END:VTIMEZONE
END:VCALENDAR