BEGIN:VCALENDAR
VERSION:2.0
PRODID:-//wp-events-plugin.com//7.2.3.1//EN
TZID:America/Detroit
X-WR-TIMEZONE:America/Detroit
BEGIN:VEVENT
UID:35852@arabamerica.com
DTSTART;TZID=America/Detroit:20260214T120000
DTEND;TZID=America/Detroit:20260214T210000
DTSTAMP:20260213T133134Z
URL:https://www.arabamerica.com/events/ramadan-for-kids-learn-play-pray-2/
SUMMARY:Ramadan for Kids: Learn • Play • Pray
DESCRIPTION:Get ready for an exciting day of Ramadan activities designed ju
 st for kids. Where learning\, playing\, and praying come together in one j
 oyful space!\n\nRamadan for Kids at the Princeton Grand Pre-Ramadan Festiv
 al is a heartwarming celebration filled with fun\, creativity\, and meanin
 gful learning. Children will enjoy engaging Ramadan-themed arts and crafts
 \, interactive activities\, and special Ramadan story time that introduces
  the beauty and values of the holy month in a simple and joyful way.\n\nTh
 is family-friendly event is created to inspire little hearts\, spark imagi
 nation\, and help children feel excited and prepared to welcome Ramadan wi
 th happiness\, kindness\, and faith. Families are encouraged to come toget
 her and enjoy a welcoming environment centered on community\, creativity\,
  and celebration.\n\n 	All ages welcome.\n 	No refunds.\n
ATTACH;FMTTYPE=image/jpeg:https://www.arabamerica.com/wp-content/uploads/2
 026/02/image-1-5.webp
LOCATION:Follow Marriott at Forrestal\, 100 College Rd E\, Princeton\, New 
 Jersey\, 08540\, United States
GEO:40.355269;-74.599057
X-APPLE-STRUCTURED-LOCATION;VALUE=URI;X-ADDRESS=100 College Rd E\, Princeto
 n\, New Jersey\, 08540\, United States;X-APPLE-RADIUS=100;X-TITLE=Follow M
 arriott at Forrestal:geo:40.355269,-74.599057
END:VEVENT
BEGIN:VTIMEZONE
TZID:America/Detroit
X-LIC-LOCATION:America/Detroit
BEGIN:STANDARD
DTSTART:20251102T010000
TZOFFSETFROM:-0400
TZOFFSETTO:-0500
TZNAME:EST
END:STANDARD
END:VTIMEZONE
END:VCALENDAR