BEGIN:VCALENDAR
VERSION:2.0
PRODID:-//wp-events-plugin.com//7.2.3.1//EN
TZID:America/Detroit
X-WR-TIMEZONE:America/Detroit
BEGIN:VEVENT
UID:32393@arabamerica.com
DTSTART;TZID=America/Detroit:20240316T180000
DTEND;TZID=America/Detroit:20240316T230000
DTSTAMP:20240305T023853Z
URL:https://www.arabamerica.com/events/ramadan-iftar-2024/
SUMMARY:Ramadan Iftar 2024
DESCRIPTION:[caption id="attachment_245826" align="alignnone" width="300"] 
 Ramadan Event Promotional Image[/caption]\n\n&nbsp\;\n\nOAK CREEK\, WISCOS
 IN\n\nCome join us for a delicious iftar meal to break your fast during th
 e holy month of Ramadan. The event will be held in person at 3570 E Puetz 
 Rd\, Oak Creek\, WI 53154\, USA. Enjoy a variety of traditional dishes and
  desserts in a warm and welcoming atmosphere. Connect with friends and fam
 ily as we celebrate this special time together. Don't miss out on this opp
 ortunity to share in the spirit of Ramadan with others in the community. W
 e look forward to seeing you there!
ATTACH;FMTTYPE=image/jpeg:https://www.arabamerica.com/wp-content/uploads/2
 024/03/Ramadan-Event-Promotional-Image-.png
END:VEVENT
BEGIN:VTIMEZONE
TZID:America/Detroit
X-LIC-LOCATION:America/Detroit
BEGIN:DAYLIGHT
DTSTART:20240310T030000
TZOFFSETFROM:-0500
TZOFFSETTO:-0400
TZNAME:EDT
END:DAYLIGHT
END:VTIMEZONE
END:VCALENDAR