BEGIN:VCALENDAR
VERSION:2.0
PRODID:-//wp-events-plugin.com//7.2.3.1//EN
TZID:America/Detroit
X-WR-TIMEZONE:America/Detroit
BEGIN:VEVENT
UID:34152@arabamerica.com
DTSTART;TZID=America/Detroit:20250314T190000
DTEND;TZID=America/Detroit:20250314T220000
DTSTAMP:20250313T175829Z
URL:https://www.arabamerica.com/events/ramadan-iftar-a-night-of-inspiratio
 n-change/
SUMMARY:Ramadan Iftar: A Night of Inspiration & Change
DESCRIPTION:Ramadan Iftar: A Night of Inspiration &amp\; Change\n\nJoin FAJ
 R for an evening of inspiration and generosity at our Iftar Fundraiser. Th
 is special night is dedicated to reviving hope and supporting our humanita
 rian efforts in Gaza and Pakistan. Your participation will help provide es
 sential medical care and contribute to rebuilding communities. Hear from D
 r. Khaled Saleh and Dr. Mohammad Tahir about their missions to Gaza\, and 
 listen to Dr. Mosab Nasser discuss FAJR's mission and future plans.
ATTACH;FMTTYPE=image/jpeg:https://www.arabamerica.com/wp-content/uploads/2
 025/03/Screenshot-2025-03-13-at-2.04.17 PM.png
LOCATION:Islamic Institute of America\, 26305 Ford Rd.\, Dearborn Heights\,
  MI\, 48127\, United States
GEO:42.3259483;-83.29824489999999
X-APPLE-STRUCTURED-LOCATION;VALUE=URI;X-ADDRESS=26305 Ford Rd.\, Dearborn H
 eights\, MI\, 48127\, United States;X-APPLE-RADIUS=100;X-TITLE=Islamic Ins
 titute of America:geo:42.3259483,-83.29824489999999
END:VEVENT
BEGIN:VTIMEZONE
TZID:America/Detroit
X-LIC-LOCATION:America/Detroit
BEGIN:DAYLIGHT
DTSTART:20250309T030000
TZOFFSETFROM:-0500
TZOFFSETTO:-0400
TZNAME:EDT
END:DAYLIGHT
END:VTIMEZONE
END:VCALENDAR