BEGIN:VCALENDAR
VERSION:2.0
PRODID:-//wp-events-plugin.com//7.2.3.1//EN
TZID:America/Detroit
X-WR-TIMEZONE:America/Detroit
BEGIN:VEVENT
UID:35868@arabamerica.com
DTSTART;TZID=America/Los_Angeles:20260217T170000
DTEND;TZID=America/Los_Angeles:20260320T220000
DTSTAMP:20260216T034056Z
URL:https://www.arabamerica.com/events/ramadan-iftar-at-al-maidah-resturan
 t/
SUMMARY:Ramadan Iftar At Al Maidah Resturant
DESCRIPTION:Join us every day during the holy month of Ramadan for a warm a
 nd welcoming Iftar dining experience at our restaurant.
ATTACH;FMTTYPE=image/jpeg:https://www.arabamerica.com/wp-content/uploads/2
 026/02/image-24.webp
CATEGORIES:California Events,Celebration,Iftar,Iftar
 Dinner,Ramadan,Ramadan Banquet,Ramadan Iftar
LOCATION:Town & Country Event Center - Rancho Cordova\, 11354 White Rock Ro
 ad\, Rancho Cordova\, CA\, 95742\, United States
GEO:38.589705;-121.259345
X-APPLE-STRUCTURED-LOCATION;VALUE=URI;X-ADDRESS=11354 White Rock Road\, Ran
 cho Cordova\, CA\, 95742\, United States;X-APPLE-RADIUS=100;X-TITLE=Town &
  Country Event Center - Rancho Cordova:geo:38.589705,-121.259345
END:VEVENT
BEGIN:VTIMEZONE
TZID:America/Los_Angeles
X-LIC-LOCATION:America/Los_Angeles
BEGIN:STANDARD
DTSTART:20251102T010000
TZOFFSETFROM:-0700
TZOFFSETTO:-0800
TZNAME:PST
END:STANDARD
BEGIN:DAYLIGHT
DTSTART:20260308T030000
TZOFFSETFROM:-0800
TZOFFSETTO:-0700
TZNAME:PDT
END:DAYLIGHT
END:VTIMEZONE
END:VCALENDAR