BEGIN:VCALENDAR
VERSION:2.0
PRODID:-//wp-events-plugin.com//7.2.3.1//EN
TZID:America/Detroit
X-WR-TIMEZONE:America/Detroit
BEGIN:VEVENT
UID:32388@arabamerica.com
DTSTART;TZID=America/Detroit:20240318T190000
DTEND;TZID=America/Detroit:20240318T210000
DTSTAMP:20240304T205608Z
URL:https://www.arabamerica.com/events/ramadan-iftar-dinners-greer-sc/
SUMMARY:Ramadan-Iftar Dinners\, Greer\, SC
DESCRIPTION:SC.\n\n\n\nWe are hoping for wonderful weather to be able to ho
 st a fast-breaking meal. Sharing dialogue for all to understand the meanin
 g of the month of Ramadan\, fasting\, alms giving\, etc will be discussed 
 followed by listening to the call to prayer and then breaking bread togeth
 er. Due to limited space this is reserved for the first 50 that RSVP. Plea
 se arrive around 7pm.\n\nAnnouncing a NEW WAY TO DONATE! We are releasing 
 2020's Cuisine of Different Cultures E-Cookbook to you for a $10 donation 
 towards Atlantic Institute. When you make your donation\, the cookbook wil
 l be emailed to you the day of the program you are participating in. This 
 cookbook is packed with over 15 creative recipes that launched us into the
  online world of our cooking demonstrations during the time of Covid. This
  was a time that all of us were coming together to learn how to cook somet
 hing different and interesting with limited resources on hand so this cook
 book is full of interesting recipes you will want to have by your side.\n\
 nIf you aren't into cooking like we are\, we are still accepting and are s
 uper appreciative of coffee!\n\n\n\n\n\n\n\n
ATTACH;FMTTYPE=image/jpeg:https://www.arabamerica.com/wp-content/uploads/2
 024/03/https___cdn.evbuc_.com_images_711045739_150277387306_1_original.jpe
 g
CATEGORIES:Food
LOCATION:Greer\, 105 Marshland Ln\, Greer \, SC\, United States
GEO:34.887886;-82.241055
X-APPLE-STRUCTURED-LOCATION;VALUE=URI;X-ADDRESS=105 Marshland Ln\, Greer \,
  SC\, United States;X-APPLE-RADIUS=100;X-TITLE=Greer:geo:34.887886,-82.241
 055
END:VEVENT
BEGIN:VTIMEZONE
TZID:America/Detroit
X-LIC-LOCATION:America/Detroit
BEGIN:DAYLIGHT
DTSTART:20240310T030000
TZOFFSETFROM:-0500
TZOFFSETTO:-0400
TZNAME:EDT
END:DAYLIGHT
END:VTIMEZONE
END:VCALENDAR