BEGIN:VCALENDAR
VERSION:2.0
PRODID:-//wp-events-plugin.com//7.2.3.1//EN
TZID:America/Detroit
X-WR-TIMEZONE:America/Detroit
BEGIN:VEVENT
UID:35856@arabamerica.com
DTSTART;TZID=America/New_York:20260308T180000
DTEND;TZID=America/New_York:20260308T210000
DTSTAMP:20260213T171143Z
URL:https://www.arabamerica.com/events/ramadan-iftar-in-new-york/
SUMMARY:Ramadan Iftar in New York
DESCRIPTION:\n\n\n\n\nIftar in New York\nJoin us for a special Ramadan Ift
 ar gathering in the heart of New York! It's a perfect chance to break yo
 ur fast with friends and enjoy delicious food in a warm\, welcoming atmosp
 here. Whether you're observing Ramadan or just curious\, come share the sp
 irit of the season and connect with the community. See you there for an un
 forgettable evening!\n\n\nRefund Policy\n- No refunds\n
ATTACH;FMTTYPE=image/jpeg:https://www.arabamerica.com/wp-content/uploads/2
 026/02/image-6-1.webp
CATEGORIES:Arab American,Community,culture,Food,Music/Folk/World
LOCATION:Lava Shawarma NYC\, 12 West 23rd Street\, New York\, NY\, 10010\, 
 United States
GEO:40.741577;-73.990267
X-APPLE-STRUCTURED-LOCATION;VALUE=URI;X-ADDRESS=12 West 23rd Street\, New Y
 ork\, NY\, 10010\, United States;X-APPLE-RADIUS=100;X-TITLE=Lava Shawarma 
 NYC:geo:40.741577,-73.990267
END:VEVENT
BEGIN:VTIMEZONE
TZID:America/New_York
X-LIC-LOCATION:America/New_York
BEGIN:DAYLIGHT
DTSTART:20260308T030000
TZOFFSETFROM:-0500
TZOFFSETTO:-0400
TZNAME:EDT
END:DAYLIGHT
END:VTIMEZONE
END:VCALENDAR