BEGIN:VCALENDAR
VERSION:2.0
PRODID:-//wp-events-plugin.com//7.2.3.1//EN
TZID:America/Detroit
X-WR-TIMEZONE:America/Detroit
BEGIN:VEVENT
UID:32389@arabamerica.com
DTSTART;TZID=America/Detroit:20240316T170000
DTEND;TZID=America/Detroit:20240316T200000
DTSTAMP:20240304T205917Z
URL:https://www.arabamerica.com/events/ramadan-iftar-invitational/
SUMMARY:Ramadan Iftar Invitational
DESCRIPTION:FL.\n\n\n\nWelcome to the Ramadan Iftar Invitational!\n\nCome j
 oin us at the Center for Peace for a night of delicious food and great c
 ompany as we learn about the month of Ramadan. This in-person event for pe
 ople of other faiths is a wonderful opportunity to connect with others in 
 the community and share in the spirit of Ramadan.\n\nAll are welcome to at
 tend and experience the joy of Iftar and get to know the Muslim community 
 During the Blessed month of Ramadan.\n\nDon't miss out on this special eve
 ning of unity and togetherness!\n\nAGENDA:\n\nTour of the Mosque\n\nPresen
 tation about Islam and Ramadan\n\nDinner with the Muslim community\n\n\n\n
ATTACH;FMTTYPE=image/jpeg:https://www.arabamerica.com/wp-content/uploads/2
 024/03/https___cdn.evbuc_.com_images_708817919_5107025675_1_original.jpeg
CATEGORIES:Community,Food
LOCATION:Masjid Al-Malik - Islamic Society of Central Florida\, 2042 Rouse 
 Rd \, Orlando \, FL\, United States
GEO:28.573657;-81.224511
X-APPLE-STRUCTURED-LOCATION;VALUE=URI;X-ADDRESS=2042 Rouse Rd \, Orlando \,
  FL\, United States;X-APPLE-RADIUS=100;X-TITLE=Masjid Al-Malik - Islamic S
 ociety of Central Florida:geo:28.573657,-81.224511
END:VEVENT
BEGIN:VTIMEZONE
TZID:America/Detroit
X-LIC-LOCATION:America/Detroit
BEGIN:DAYLIGHT
DTSTART:20240310T030000
TZOFFSETFROM:-0500
TZOFFSETTO:-0400
TZNAME:EDT
END:DAYLIGHT
END:VTIMEZONE
END:VCALENDAR