BEGIN:VCALENDAR
VERSION:2.0
PRODID:-//wp-events-plugin.com//7.2.3.1//EN
TZID:America/Detroit
X-WR-TIMEZONE:America/Detroit
BEGIN:VEVENT
UID:35449@arabamerica.com
DTSTART;TZID=America/Detroit:20260201T110000
DTEND;TZID=America/Detroit:20260201T170000
DTSTAMP:20251119T124524Z
URL:https://www.arabamerica.com/events/ramadan-market-great-park-irvine/
SUMMARY:Ramadan Market - Great park\, Irvine
DESCRIPTION:IRVINE\, CA\n\n\n\nJoin us at the Muslim Village themed Ramadan
  Market.Celebrate our vibrant community with Delicious halal food\, clothe
 s\, activities and more\n\n\n\nA curated Muslim Village\, a most awaited e
 vent by LAMM 5th Annual Market\nCome join us at Great Park carousel\, on F
 ebruary 1st\, 2026 at 11:00 AM (Pacific Time) for a day filled with joy\, 
 culture\, and delicious treats! Get ready to explore our Muslim Village th
 emed market with cultural preservation\, community building\, economic emp
 owerment. Supoort our local artisans by purchasing\, traditional clothes\,
  books and literature\, Islamic art and Calligraphy\, Halal food and drink
 s and much more.\n\nOur event is geared towards the entire family so can't
  wait to see you.\n\nEvents by LAMM Team\n\nBy attending this event\, you 
 agree to be photographed\, filmed\, and/or recorded. These images and reco
 rdings may be used by event organizers for promotional\, educational\, or 
 archival purposes in various media formats.\n\n\n
ATTACH;FMTTYPE=image/jpeg:https://www.arabamerica.com/wp-content/uploads/2
 025/11/Screenshot-2025-11-19-at-1.45.54-PM-e1763556186288.png
LOCATION:great Park Carousel\, 8000 great Park blvd\, Irvine\, CA\, 92618\,
  United States
GEO:33.673864;-117.740828
X-APPLE-STRUCTURED-LOCATION;VALUE=URI;X-ADDRESS=8000 great Park blvd\, Irvi
 ne\, CA\, 92618\, United States;X-APPLE-RADIUS=100;X-TITLE=great Park Caro
 usel:geo:33.673864,-117.740828
END:VEVENT
BEGIN:VTIMEZONE
TZID:America/Detroit
X-LIC-LOCATION:America/Detroit
BEGIN:STANDARD
DTSTART:20251102T010000
TZOFFSETFROM:-0400
TZOFFSETTO:-0500
TZNAME:EST
END:STANDARD
END:VTIMEZONE
END:VCALENDAR