BEGIN:VCALENDAR
VERSION:2.0
PRODID:-//wp-events-plugin.com//7.2.3.1//EN
TZID:America/Detroit
X-WR-TIMEZONE:America/Detroit
BEGIN:VEVENT
UID:35758@arabamerica.com
DTSTART;TZID=America/Detroit:20260131T140000
DTEND;TZID=America/Detroit:20260131T150000
DTSTAMP:20260126T003430Z
URL:https://www.arabamerica.com/events/ramadan-zakriya-celebration/
SUMMARY:Ramadan & Zakriya Celebration
DESCRIPTION:Come Celebrate with us!
ATTACH;FMTTYPE=image/jpeg:https://www.arabamerica.com/wp-content/uploads/2
 026/01/rawan-yasser-Y-joaXX7XCQ-unsplash-scaled.jpg
CATEGORIES:Ramadan,Ramadan Festivities,Virginia Events,Women,Women Only
END:VEVENT
BEGIN:VTIMEZONE
TZID:America/Detroit
X-LIC-LOCATION:America/Detroit
BEGIN:STANDARD
DTSTART:20251102T010000
TZOFFSETFROM:-0400
TZOFFSETTO:-0500
TZNAME:EST
END:STANDARD
END:VTIMEZONE
END:VCALENDAR