BEGIN:VCALENDAR
VERSION:2.0
PRODID:-//wp-events-plugin.com//7.2.3.1//EN
TZID:America/Detroit
X-WR-TIMEZONE:America/Detroit
BEGIN:VEVENT
UID:35321@arabamerica.com
DTSTART;TZID=America/Detroit:20251129T180000
DTEND;TZID=America/Detroit:20251129T230000
DTSTAMP:20251028T204815Z
URL:https://www.arabamerica.com/events/ramallah-club-annual-benefit-dinner
 /
SUMMARY:Ramallah Club Annual Benefit Dinner
DESCRIPTION:Join us for a night of delicious food\, entertainment\, and fun
 draising at the Ramallah Club Annual Benefit Dinner!
ATTACH;FMTTYPE=image/jpeg:https://www.arabamerica.com/wp-content/uploads/2
 025/10/https___cdn.evbuc_.com_images_1150842143_286350855331_1_original.jp
 g
CATEGORIES:Food,Fundraiser,Fundraising,Human Rights
LOCATION:St Mary's Cultural Center\, 18100 Merriman rd\, Livonia\, Michigan
 \, United States
GEO:42.4188237;-83.35410830000001
X-APPLE-STRUCTURED-LOCATION;VALUE=URI;X-ADDRESS=18100 Merriman rd\, Livonia
 \, Michigan\, United States;X-APPLE-RADIUS=100;X-TITLE=St Mary's Cultural 
 Center:geo:42.4188237,-83.35410830000001
END:VEVENT
BEGIN:VTIMEZONE
TZID:America/Detroit
X-LIC-LOCATION:America/Detroit
BEGIN:STANDARD
DTSTART:20251102T010000
TZOFFSETFROM:-0400
TZOFFSETTO:-0500
TZNAME:EST
END:STANDARD
END:VTIMEZONE
END:VCALENDAR