BEGIN:VCALENDAR
VERSION:2.0
PRODID:-//wp-events-plugin.com//7.2.3.1//EN
TZID:America/Detroit
X-WR-TIMEZONE:America/Detroit
BEGIN:VEVENT
UID:33935@arabamerica.com
DTSTART;TZID=America/Detroit:20250118T180000
DTEND;TZID=America/Detroit:20250118T180000
DTSTAMP:20250110T215303Z
URL:https://www.arabamerica.com/events/ramallah-club-of-detroit-2/
SUMMARY:Ramallah Club Of Detroit
DESCRIPTION:\n\nOur homeland is calling on us...\nTo hold your tickets at t
 he door\, please call any of your Club members:\nAbe: 734-718-9202 • Eme
 el: 248-821-6817\nKen: 734-765-1103 • Sonya: 734-673-7155\nTaisir: 248-9
 82-6418 • Salem: 734-658-7968\nor Hanna: 734-748-6068\n\nOr purchase tic
 kets via Eventbrite: \nbit.ly/RamallahBenefit\n\nFor those unable to atte
 nd\,\nyou can still donate via Eventbrite.\nJust leave us a note.
ATTACH;FMTTYPE=image/jpeg:https://www.arabamerica.com/wp-content/uploads/2
 025/01/Screenshot-2025-01-10-at-4.52.48-PM.png
LOCATION:St. Mary's Cultural Center\, 18100 Merriman Road\, Livonia\, Michi
 gan\, United States
GEO:42.4188237;-83.35410830000001
X-APPLE-STRUCTURED-LOCATION;VALUE=URI;X-ADDRESS=18100 Merriman Road\, Livon
 ia\, Michigan\, United States;X-APPLE-RADIUS=100;X-TITLE=St. Mary's Cultur
 al Center:geo:42.4188237,-83.35410830000001
END:VEVENT
BEGIN:VTIMEZONE
TZID:America/Detroit
X-LIC-LOCATION:America/Detroit
BEGIN:STANDARD
DTSTART:20241103T010000
TZOFFSETFROM:-0400
TZOFFSETTO:-0500
TZNAME:EST
END:STANDARD
END:VTIMEZONE
END:VCALENDAR